Workbook
Name ___Sem2: #REF!
Name __Sem2: #REF!
Name _Sem2: #REF!
Name CALC_CicloTérmino: EDATE(ENT_CicloInício,3)-1
Name CALC_CicloTérmino: EDATE([0]!ENT_CicloInício,3)-1
Name CALC_CicloTérmino: EDATE([0]!ENT_CicloInício,3)-1
Name CALC_CicloTérmino: EDATE([0]!ENT_CicloInício,3)-1
Name CALC_CicloTérmino: EDATE([0]!ENT_CicloInício,3)-1
Name CALC_CicloTérmino: EDATE(ENT_CicloInício,3)-1
Name CALC_IMCParcial: IFERROR(#REF!/(ENT_AlturaM^2),0)
Name CALC_IMCParcial: IFERROR(#REF!/([0]!ENT_AlturaM^2),0)
Name CALC_IMCParcial: IFERROR(#REF!/([0]!ENT_AlturaM^2),0)
Name CALC_IMCParcial: IFERROR(#REF!/([0]!ENT_AlturaM^2),0)
Name CALC_IMCParcial: IFERROR(#REF!/([0]!ENT_AlturaM^2),0)
Name CALC_IMCParcial: IFERROR(#REF!/(ENT_AlturaM^2),0)
Name CALC_ParaMetaKG: IF(ISNUMBER(#REF!),ENT_MetaKG-#REF!,"-")
Name CALC_ParaMetaKG: IF(ISNUMBER(#REF!),[0]!ENT_MetaKG-#REF!,"-")
Name CALC_ParaMetaKG: IF(ISNUMBER(#REF!),[0]!ENT_MetaKG-#REF!,"-")
Name CALC_ParaMetaKG: IF(ISNUMBER(#REF!),[0]!ENT_MetaKG-#REF!,"-")
Name CALC_ParaMetaKG: IF(ISNUMBER(#REF!),[0]!ENT_MetaKG-#REF!,"-")
Name CALC_ParaMetaKG: IF(ISNUMBER(#REF!),ENT_MetaKG-#REF!,"-")
Name CALC_VarTotalKG: IF(ISNUMBER(#REF!),#REF!-ENT_PesoKG,0)
Name CALC_VarTotalKG: IF(ISNUMBER(#REF!),#REF!-[0]!ENT_PesoKG,0)
Name CALC_VarTotalKG: IF(ISNUMBER(#REF!),#REF!-[0]!ENT_PesoKG,0)
Name CALC_VarTotalKG: IF(ISNUMBER(#REF!),#REF!-[0]!ENT_PesoKG,0)
Name CALC_VarTotalKG: IF(ISNUMBER(#REF!),#REF!-[0]!ENT_PesoKG,0)
Name CALC_VarTotalKG: IF(ISNUMBER(#REF!),#REF!-ENT_PesoKG,0)
Name ENT_AlturaM: #REF!
Name ENT_CicloInício: #REF!
Name ENT_MetaKG: #REF!
Name ENT_PesoKG: #REF!
Name LISTA_Treinos: [1]CONTROLE!$W$17:$W$28

Sheet TESTE (Cooper 12 min.)
B7: Dados Pessoais | AL7: 0 | AM7: Baixo peso severo
AL8: 16.1 | AM8: Baixo peso moderado
C9: Nome completo | I9: Data de Nasc. | K9: Sexo | M9: Idade | AL9: 17 | AM9: Baixo peso leve
C10: Leandro Thompson | I10: 24/11/1981 | K10: Masculino | M10: =IF(I10="","-",INT((AL18-I10)/365.25)) -> 40 | AL10: 18.5 | AM10: Peso normal
AL11: 25 | AM11: Pré-obesidade
C12: Massa (kg) | E12: Altura (m) | G12: IMC | I12: Classificação IMC | M12: P.A. (mmHg) | AL12: 30 | AM12: Obesidade Grau I
C13: 85.6 | E13: 1.86 | G13: =IF(E13="","-",SUM(C13/(E13*E13))) -> 24.742745 | I13: =IF(E13="","-",VLOOKUP(G13,AL7:AN14,2,TRUE)) -> Peso normal | M13: 110/70 | AL13: 35 | AM13: Obesidade Grau II
AL14: 40 | AM14: Obesidade Grau III
C15: Telefone | E15: email | I15: Plano de saúde
AL17: 40 | AM17: obesidade muito alta
AL18: =TODAY() -> 44807
AL23: 0.0083333333
B26: Teste de Cooper - 12 min.
C29: Distância (m): | E29: F.C. rep. (bpm) | G29: F.C. máx. (bpm) | I29: Consumo máximo de oxigênio
C30: 2200 | E30: 68 | G30: 195 | I30: =IF(C30="","-",((C30-504)/45)) -> 37.688889 | K30: =IF(C13="","-",((I30*C13)/1000)) -> 3.2261689 | AL30: =G30 -> 195
AR31: resultado
C32: Velocidade média: | E32: Clasificação: | I32: METS | K32: PACE | AP32: idade | AR32: =I30 -> 37.688889
C33: =IF(C30="","-",(((C30/1000)*60)/12)) -> 11 | E33: =IF(C30="","-",AQ37) -> Bom | I33: =IF(I30="-","-",(I30/3.5)) -> 10.768254 | K33: =IF(C30="","-",(AL23/C30)*1000) -> 0.0037878788 | AN33: genero | AP33: =M10 -> 40
I34: =C30 -> 2200 | AN34: =IF(K10="feminino",0,1) -> 1
AQ36: Classificação
V37: resultado | AG37: resultado | AQ37: =IF(AND(AN34=0,AP33<=29),VLOOKUP(AR32,AK44:AL48,2,TRUE),IF(AND(AN34=0,AP33<=39),VLOOKUP(AR32,AK51:AL55,2,TRUE),IF(AND(AN34=0,AP33<=49),VLOOKUP(AR32,AK57:AL61,2,TRUE),IF(AND(AN34=0,AP33<=59),VLOOKUP(AR32,AK63:AL67,2,TRUE),IF(AND(AN34=0,AP33<=69),VLOOKUP(AR32,AK69:AL73,2,TRUE),IF(AND(AN34=1,AP33<=29),VLOOKUP(AR32,AN44:AO48,2,TRUE),IF(AND(AN34=1,AP33<=39),VLOOKUP(AR32,AN51:AO55,2,TRUE),IF(AND(AN34=1,AP33<=49),VLOOKUP(AR32,AN57:AO61,2,TRUE),IF(AND(AN34=1,AP33<=59),VLOOKUP(AR32,AN63:AO67,2,TRUE),IF(AND(AN34=1,AP33<=69),VLOOKUP(AR32,AN69:AO73,2,TRUE),"-")))))))))) -> Bom
T38: idade | V38: =#REF! -> #REF! | AE38: idade | AG38: =#REF! -> #REF!
R39: genero | T39: =#REF! -> #REF! | AC39: genero | AE39: =#REF! -> #REF!
B40: Tabela de Frequência Cardíaca | AC40: =R40 -> 0
U41: força abdominal | AF41: força de braço
Q42: Feminino | U42: Classificação | AB42: Feminino | AF42: Classificação | AK42: Feminino | AN42: Masculino
C43: Idade | E43: FC repouso | G43: FC máxima | I43: FC reserva | K43: % da FC de treino | M43: FC de treino | Q43: 15-19 | U43: =IF(AND(R40=0,T39<=19),VLOOKUP(V38,Q44:R48,2,TRUE),IF(AND(R40=0,T39<=29),VLOOKUP(V38,Q51:R55,2,TRUE),IF(AND(R40=0,T39<=39),VLOOKUP(V38,Q57:R61,2,TRUE),IF(AND(R40=0,T39<=49),VLOOKUP(V38,Q63:R67,2,TRUE),IF(AND(R40=0,T39<=59),VLOOKUP(V38,Q69:R73,2,TRUE),IF(AND(R40=0,T39<=69),VLOOKUP(V38,Q76:R80,2,TRUE),IF(AND(R40=1,T39<=19),VLOOKUP(V38,T50:U54,2,TRUE),IF(AND(R40=1,T39<=29),VLOOKUP(V38,T57:U61,2,TRUE),IF(AND(R40=1,T39<=39),VLOOKUP(V38,T63:U67,2,TRUE),IF(AND(R40=1,T39<=49),VLOOKUP(V38,T69:U73,2,TRUE),IF(AND(R40=1,T39<=59),VLOOKUP(V38,T75:U79,2,TRUE),IF(AND(R40=1,T39<=69),VLOOKUP(V38,T82:U86,2,TRUE),"-")))))))))))) -> #REF! | AB43: 15-19 | AF43: =IF(AND(AC40=0,AE39<=19),VLOOKUP(AG38,AB44:AC48,2,TRUE),IF(AND(AC40=0,AE39<=29),VLOOKUP(AG38,AB51:AC55,2,TRUE),IF(AND(AC40=0,AE39<=39),VLOOKUP(AG38,AB57:AC61,2,TRUE),IF(AND(AC40=0,AE39<=49),VLOOKUP(AG38,AB63:AC67,2,TRUE),IF(AND(AC40=0,AE39<=59),VLOOKUP(AG38,AB69:AC73,2,TRUE),IF(AND(AC40=0,AE39<=69),VLOOKUP(AG38,AB76:AC80,2,TRUE),IF(AND(AC40=1,AE39<=19),VLOOKUP(AG38,AE50:AF53,2,TRUE),IF(AND(AC40=1,AE39<=29),VLOOKUP(AG38,AE57:AF61,2,TRUE),IF(AND(AC40=1,AE39<=39),VLOOKUP(AG38,AE63:AF67,2,TRUE),IF(AND(AC40=1,AE39<=49),VLOOKUP(AG38,AE69:AF73,2,TRUE),IF(AND(AC40=1,AE39<=59),VLOOKUP(AG38,AE75:AF79,2,TRUE),IF(AND(AC40=1,AE39<=69),VLOOKUP(AG38,AE82:AF86,2,TRUE),"-")))))))))))) -> #REF! | AK43: <29 | AN43: <29
C44: =M10 -> 40 | E44: =E30 -> 68 | G44: ='TESTE (Cooper 12 min.)'!AL30 -> 195 | I44: =G44-E44 -> 127 | K44: 1 | M44: =IF('TESTE (Cooper 12 min.)'!E44=0,"Aguardando Dados",'TESTE (Cooper 12 min.)'!E44+'TESTE (Cooper 12 min.)'!K44*('TESTE (Cooper 12 min.)'!G44-'TESTE (Cooper 12 min.)'!E44)) -> 195 | Q44: 1 | R44: Fraco | AB44: 1 | AC44: Fraco | AK44: 1 | AL44: M. Fraco | AN44: 1 | AO44: M. Fraco
C45: =C44 -> 40 | E45: =E44 -> 68 | G45: =G44 -> 195 | I45: =I44 -> 127 | K45: 0.95 | M45: =IF('TESTE (Cooper 12 min.)'!E45=0,"Aguardando Dados",'TESTE (Cooper 12 min.)'!E45+'TESTE (Cooper 12 min.)'!K45*('TESTE (Cooper 12 min.)'!G45-'TESTE (Cooper 12 min.)'!E45)) -> 188.65 | Q45: 27 | R45: Regular | AB45: 12 | AC45: Regular | AK45: 24 | AL45: Fraco | AN45: 25 | AO45: Fraco
C46: =C45 -> 40 | E46: =E45 -> 68 | G46: =G45 -> 195 | I46: =I45 -> 127 | K46: 0.9 | M46: =IF('TESTE (Cooper 12 min.)'!E46=0,"Aguardando Dados",'TESTE (Cooper 12 min.)'!E46+'TESTE (Cooper 12 min.)'!K46*('TESTE (Cooper 12 min.)'!G46-'TESTE (Cooper 12 min.)'!E46)) -> 182.3 | Q46: 32 | R46: Médio | AB46: 18 | AC46: Médio | AK46: 31 | AL46: Regular | AN46: 34 | AO46: Regular
C47: =C46 -> 40 | E47: =E46 -> 68 | G47: =G46 -> 195 | I47: =I46 -> 127 | K47: 0.85 | M47: =IF('TESTE (Cooper 12 min.)'!E47=0,"Aguardando Dados",'TESTE (Cooper 12 min.)'!E47+'TESTE (Cooper 12 min.)'!K47*('TESTE (Cooper 12 min.)'!G47-'TESTE (Cooper 12 min.)'!E47)) -> 175.95 | Q47: 36 | R47: Bom | AB47: 25 | AC47: Bom | AK47: 38 | AL47: Bom | AN47: 45 | AO47: Bom
C48: =C47 -> 40 | E48: =E47 -> 68 | G48: =G47 -> 195 | I48: =I47 -> 127 | K48: 0.8 | M48: =IF('TESTE (Cooper 12 min.)'!E48=0,"Aguardando Dados",'TESTE (Cooper 12 min.)'!E48+'TESTE (Cooper 12 min.)'!K48*('TESTE (Cooper 12 min.)'!G48-'TESTE (Cooper 12 min.)'!E48)) -> 169.6 | Q48: 42 | R48: Excelente | T48: Masculino | AB48: 33 | AC48: Excelente | AE48: Masculino | AK48: 49 | AL48: Excelente | AN48: 53 | AO48: Excelente
C49: =C48 -> 40 | E49: =E48 -> 68 | G49: =G48 -> 195 | I49: =I48 -> 127 | K49: 0.75 | M49: =IF('TESTE (Cooper 12 min.)'!E49=0,"Aguardando Dados",'TESTE (Cooper 12 min.)'!E49+'TESTE (Cooper 12 min.)'!K49*('TESTE (Cooper 12 min.)'!G49-'TESTE (Cooper 12 min.)'!E49)) -> 163.25 | T49: 15 - 19 | AE49: 15 - 19
C50: =C49 -> 40 | E50: =E49 -> 68 | G50: =G49 -> 195 | I50: =I49 -> 127 | K50: 0.7 | M50: =IF('TESTE (Cooper 12 min.)'!E50=0,"Aguardando Dados",'TESTE (Cooper 12 min.)'!E50+'TESTE (Cooper 12 min.)'!K50*('TESTE (Cooper 12 min.)'!G50-'TESTE (Cooper 12 min.)'!E50)) -> 156.9 | Q50: 20-29 | T50: 1 | U50: Fraco | AB50: 20-29 | AE50: 1 | AF50: Fraco | AK50: 30 - 39 | AN50: 30 - 39
C51: =C50 -> 40 | E51: =E50 -> 68 | G51: =G50 -> 195 | I51: =I50 -> 127 | K51: 0.65 | M51: =IF('TESTE (Cooper 12 min.)'!E51=0,"Aguardando Dados",'TESTE (Cooper 12 min.)'!E51+'TESTE (Cooper 12 min.)'!K51*('TESTE (Cooper 12 min.)'!G51-'TESTE (Cooper 12 min.)'!E51)) -> 150.55 | Q51: 1 | R51: Fraco | T51: 33 | U51: Regular | AB51: 1 | AC51: Fraco | AE51: 18 | AF51: Regular | AK51: 1 | AL51: M. Fraco | AN51: 1 | AO51: M. Fraco
C52: =C51 -> 40 | E52: =E51 -> 68 | G52: =G51 -> 195 | I52: =I51 -> 127 | K52: 0.6 | M52: =IF('TESTE (Cooper 12 min.)'!E52=0,"Aguardando Dados",'TESTE (Cooper 12 min.)'!E52+'TESTE (Cooper 12 min.)'!K52*('TESTE (Cooper 12 min.)'!G52-'TESTE (Cooper 12 min.)'!E52)) -> 144.2 | Q52: 21 | R52: Regular | T52: 38 | U52: Médio | AB52: 10 | AC52: Regular | AE52: 23 | AF52: Médio | AK52: 20 | AL52: Fraco | AN52: 23 | AO52: Fraco
C53: =C52 -> 40 | E53: =E52 -> 68 | G53: =G52 -> 195 | I53: =I52 -> 127 | K53: 0.55 | M53: =IF('TESTE (Cooper 12 min.)'!E53=0,"Aguardando Dados",'TESTE (Cooper 12 min.)'!E53+'TESTE (Cooper 12 min.)'!K53*('TESTE (Cooper 12 min.)'!G53-'TESTE (Cooper 12 min.)'!E53)) -> 137.85 | Q53: 25 | R53: Médio | T53: 42 | U53: Bom | AB53: 15 | AC53: Médio | AE53: 29 | AF53: Bom | AK53: 28 | AL53: Regular | AN53: 31 | AO53: Regular
C54: =C53 -> 40 | E54: =E53 -> 68 | G54: =G53 -> 195 | I54: =I53 -> 127 | K54: 0.5 | M54: =IF('TESTE (Cooper 12 min.)'!E54=0,"Aguardando Dados",'TESTE (Cooper 12 min.)'!E54+'TESTE (Cooper 12 min.)'!K54*('TESTE (Cooper 12 min.)'!G54-'TESTE (Cooper 12 min.)'!E54)) -> 131.5 | Q54: 31 | R54: Bom | T54: 48 | U54: Excelente | AB54: 21 | AC54: Bom | AE54: 39 | AF54: Excelente | AK54: 38 | AL54: Bom | AN54: 39 | AO54: Bom
Q55: 36 | R55: Excelente | AB55: 30 | AC55: Excelente | AK55: 45 | AL55: Excelente | AN55: 49 | AO55: Excelente
Q56: 30 -39 | T56: 20 - 29 | AB56: 30 -39 | AE56: 20 - 29 | AK56: 40 - 49 | AN56: 40 - 49
B57: Zonas de Treino de Corrida | Q57: 1 | R57: Fraco | T57: 1 | U57: Fraco | AB57: 1 | AC57: Fraco | AE57: 1 | AF57: Fraco | AK57: 1 | AL57: M. Fraco | AN57: 1 | AO57: M. Fraco
Q58: 15 | R58: Regular | T58: 29 | U58: Regular | AB58: 8 | AC58: Regular | AE58: 17 | AF58: Regular | AK58: 17 | AL58: Fraco | AN58: 20 | AO58: Fraco
Q59: 20 | R59: Médio | T59: 33 | U59: Médio | AB59: 13 | AC59: Médio | AE59: 22 | AF59: Médio | AK59: 24 | AL59: Regular | AN59: 27 | AO59: Regular
E60: Zona 1 | G60: 40% a 60% | I60: =IF($K$33="-","-",(((($AJ$82-AJ99)/60)+$AJ$84)/1440)) -> 0.0060606061 | J60: a | K60: =IF($K$33="-","-",(((($AJ$82-AK99)/60)+$AJ$84)/1440)) -> 0.0053030303 | Q60: 24 | R60: Bom | T60: 37 | U60: Bom | AB60: 20 | AC60: Bom | AE60: 19 | AF60: Bom | AK60: 31 | AL60: Bom | AN60: 36 | AO60: Bom
E61: Zona 2 | G61: 61% a 70% | I61: =IF($K$33="-","-",(((($AJ$82-AJ100)/60)+$AJ$84)/1440)) -> 0.0052651515 | J61: a | K61: =IF($K$33="-","-",(((($AJ$82-AK100)/60)+$AJ$84)/1440)) -> 0.0049242424 | Q61: 29 | R61: Excelente | T61: 43 | U61: Excelente | AB61: 27 | AC61: Excelente | AE61: 36 | AF61: Excelente | AK61: 42 | AL61: Excelente | AN61: 45 | AO61: Excelente
E62: Zona 3 | G62: 71% a 85% | I62: =IF($K$33="-","-",(((($AJ$82-AJ101)/60)+$AJ$84)/1440)) -> 0.0048863636 | J62: a | K62: =IF($K$33="-","-",(((($AJ$82-AK101)/60)+$AJ$84)/1440)) -> 0.0043560606 | Q62: 40 -49 | T62: 30 - 39 | AB62: 40 -49 | AE62: 30 - 39 | AK62: 50 - 59 | AN62: 50 - 59
E63: Zona 4 | G63: 86% a 95% | I63: =IF($K$33="-","-",(((($AJ$82-AJ102)/60)+$AJ$84)/1440)) -> 0.0043181818 | J63: a | K63: =IF($K$33="-","-",(((($AJ$82-AK102)/60)+$AJ$84)/1440)) -> 0.0039772727 | Q63: 1 | R63: Fraco | T63: 1 | U63: Fraco | AB63: 1 | AC63: Fraco | AE63: 1 | AF63: Fraco | AK63: 1 | AL63: M. Fraco | AN63: 1 | AO63: M. Fraco
E64: Zona 5 | G64: 96% a 100% | I64: =IF($K$33="-","-",(((($AJ$82-AJ103)/60)+$AJ$84)/1440)) -> 0.0039393939 | J64: a | K64: =IF($K$33="-","-",(((($AJ$82-AK103)/60)+$AJ$84)/1440)) -> 0.0037878788 | Q64: 7 | R64: Regular | T64: 22 | U64: Regular | AB64: 5 | AC64: Regular | AE64: 12 | AF64: Regular | AK64: 15 | AL64: Fraco | AN64: 18 | AO64: Fraco
Q65: 15 | R65: Médio | T65: 27 | U65: Médio | AB65: 11 | AC65: Médio | AE65: 17 | AF65: Médio | AK65: 21 | AL65: Regular | AN65: 25 | AO65: Regular
Q66: 20 | R66: Bom | T66: 31 | U66: Bom | AB66: 15 | AC66: Bom | AE66: 22 | AF66: Bom | AK66: 28 | AL66: Bom | AN66: 34 | AO66: Bom
B67: Equivalência de Tempo | Q67: 25 | R67: Excelente | T67: 36 | U67: Excelente | AB67: 24 | AC67: Excelente | AE67: 30 | AF67: Excelente | AK67: 38 | AL67: Excelente | AN67: 43 | AO67: Excelente
Q68: 50 - 59 | T68: 40 -49 | AB68: 50 - 59 | AE68: 40 -49 | AK68: 60 - 69 | AN68: 60 - 69
Q69: 1 | R69: Fraco | T69: 1 | U69: Fraco | AB69: 1 | AC69: Fraco | AE69: 1 | AF69: Fraco | AK69: 1 | AL69: M. Fraco | AN69: 1 | AO69: M. Fraco
C70: Entre com a distância e com o tempo | Q70: 3 | R70: Regular | T70: 17 | U70: Regular | AB70: 2 | AC70: Regular | AE70: 10 | AF70: Regular | AK70: 13 | AL70: Fraco | AN70: 16 | AO70: Fraco
C71: Distância (m) | E71: 2200 | Q71: 5 | R71: Médio | T71: 22 | U71: Médio | AB71: 7 | AC71: Médio | AE71: 13 | AF71: Médio | AK71: 18 | AL71: Regular | AN71: 23 | AO71: Regular
C72: Tempo (h:m:s) | E72: 0.0083333333 | Q72: 12 | R72: Bom | T72: 26 | U72: Bom | AB72: 11 | AC72: Bom | AE72: 17 | AF72: Bom | AK72: 24 | AL72: Bom | AN72: 31 | AO72: Bom
Q73: 19 | R73: Excelente | T73: 36 | U73: Excelente | AB73: 21 | AC73: Excelente | AE73: 22 | AF73: Excelente | AK73: 35 | AL73: Excelente | AN73: 41 | AO73: Excelente
C74: 100 | E74: 1000 | G74: 5000 | I74: 10000 | K74: 21100 | M74: 42200 | T74: 50 - 59 | AE74: 50 - 59
C75: =IF($E$72="","-",($E$72/$E$71)*C74) -> 0.00037878788 | E75: =IF($E$72="","-",($E$72/$E$71)*E74) -> 0.0037878788 | G75: =IF($E$72="","-",($E$72/$E$71)*G74) -> 0.018939394 | I75: =IF($E$72="","-",($E$72/$E$71)*I74) -> 0.037878788 | K75: =IF($E$72="","-",($E$72/$E$71)*K74) -> 0.079924242 | M75: =IF($E$72="","-",($E$72/$E$71)*M74) -> 0.15984848 | Q75: 60 - 69 | T75: 1 | U75: Fraco | AB75: 60 - 69 | AE75: 1 | AF75: Fraco
Q76: 1 | R76: Fraco | T76: 13 | U76: Regular | AB76: 1 | AC76: Fraco | AE76: 7 | AF76: Regular
Q77: 2 | R77: Regular | T77: 18 | U77: Médio | AB77: 1 | AC77: Regular | AE77: 10 | AF77: Médio
Q78: 4 | R78: Médio | T78: 22 | U78: Bom | AB78: 5 | AC78: Médio | AE78: 13 | AF78: Bom
Q79: 12 | R79: Bom | T79: 31 | U79: Excelente | AB79: 12 | AC79: Bom | AE79: 21 | AF79: Excelente | AJ79: =24*60*60 -> 86400
Q80: 16 | R80: Excelente | AB80: 17 | AC80: Excelente
T81: 60 - 69 | AE81: 60 - 69
T82: 1 | U82: Fraco | AE82: 1.01 | AF82: Fraco | AJ82: =K33*AJ79 -> 327.27273
T83: 7 | U83: Regular | AE83: 5 | AF83: Regular
T84: 12 | U84: Médio | AE84: 8 | AF84: Médio | AJ84: =AJ82/60 -> 5.4545455
T85: 11 | U85: Bom | AE85: 11 | AF85: Bom
T86: 26 | U86: Excelente | AE86: 18 | AF86: Excelente
AJ90: 0.4 | AK90: 0.6
AJ91: 0.61 | AK91: 0.7
AJ92: 0.71 | AK92: 0.85
AJ93: 0.86 | AK93: 0.95
AJ94: 0.96 | AK94: 1
AJ99: =$AJ$82*AJ90 -> 130.90909 | AK99: =$AJ$82*AK90 -> 196.36364
AJ100: =$AJ$82*AJ91 -> 199.63636 | AK100: =$AJ$82*AK91 -> 229.09091
AJ101: =$AJ$82*AJ92 -> 232.36364 | AK101: =$AJ$82*AK92 -> 278.18182
AJ102: =$AJ$82*AJ93 -> 281.45455 | AK102: =$AJ$82*AK93 -> 310.90909
AJ103: =$AJ$82*AJ94 -> 314.18182 | AK103: =$AJ$82*AK94 -> 327.27273

Sheet TESTE (Balke 15 min.)
B7: Dados Pessoais | AL7: 0 | AM7: Baixo peso severo
AL8: 16.1 | AM8: Baixo peso moderado
C9: Nome completo | I9: Data de Nasc. | K9: Sexo | M9: Idade | AL9: 17 | AM9: Baixo peso leve
M10: =IF(I10="","-",INT((AL18-I10)/365.25)) -> - | AL10: 18.5 | AM10: Peso normal
AL11: 25 | AM11: Pré-obesidade
C12: Massa (kg) | E12: Altura (m) | G12: IMC | I12: Classificação IMC | M12: P.A. (mmHg) | AL12: 30 | AM12: Obesidade Grau I
G13: =IF(E13="","-",SUM(C13/(E13*E13))) -> - | I13: =IF(E13="","-",VLOOKUP(G13,AL7:AN14,2,TRUE)) -> - | AL13: 35 | AM13: Obesidade Grau II
AL14: 40 | AM14: Obesidade Grau III
C15: Telefone | E15: email | I15: Plano de saúde
AL17: 40 | AM17: obesidade muito alta
AL18: =TODAY() -> 44807
AL23: 0.0083333333
B26: Teste de Balke - 15 min.
C29: Distância (m): | E29: F.C. rep. (bpm) | G29: F.C. máx. (bpm) | I29: Consumo máximo de oxigênio
I30: =IF(C30="","-",((((C30/15)-133)*0.172)+33.3)) -> - | K30: =IF(C13="","-",((I30*C13)/1000)) -> - | AL30: =G30 -> 0
AR31: resultado
C32: Velocidade média: | E32: Clasificação: | I32: METS | K32: PACE | AP32: idade | AR32: =I30 -> -
C33: =IF(C30="","-",(((C30/1000)*60)/15)) -> - | E33: =IF(C30="","-",AQ37) -> - | I33: =IF(I30="-","-",(I30/3.5)) -> - | K33: =IF(C30="","-",(AL23/C30)*1000) -> - | AN33: genero | AP33: =M10 -> -
I34: =C30 -> 0 | AN34: =IF(K10="feminino",0,1) -> 1
AQ36: Classificação
V37: resultado | AG37: resultado | AQ37: =IF(AND(AN34=0,AP33<=29),VLOOKUP(AR32,AK44:AL48,2,TRUE),IF(AND(AN34=0,AP33<=39),VLOOKUP(AR32,AK51:AL55,2,TRUE),IF(AND(AN34=0,AP33<=49),VLOOKUP(AR32,AK57:AL61,2,TRUE),IF(AND(AN34=0,AP33<=59),VLOOKUP(AR32,AK63:AL67,2,TRUE),IF(AND(AN34=0,AP33<=69),VLOOKUP(AR32,AK69:AL73,2,TRUE),IF(AND(AN34=1,AP33<=29),VLOOKUP(AR32,AN44:AO48,2,TRUE),IF(AND(AN34=1,AP33<=39),VLOOKUP(AR32,AN51:AO55,2,TRUE),IF(AND(AN34=1,AP33<=49),VLOOKUP(AR32,AN57:AO61,2,TRUE),IF(AND(AN34=1,AP33<=59),VLOOKUP(AR32,AN63:AO67,2,TRUE),IF(AND(AN34=1,AP33<=69),VLOOKUP(AR32,AN69:AO73,2,TRUE),"-")))))))))) -> -
T38: idade | V38: =#REF! -> #REF! | AE38: idade | AG38: =#REF! -> #REF!
R39: genero | T39: =#REF! -> #REF! | AC39: genero | AE39: =#REF! -> #REF!
B40: Tabela de Frequência Cardíaca | AC40: =R40 -> 0
U41: força abdominal | AF41: força de braço
Q42: Feminino | U42: Classificação | AB42: Feminino | AF42: Classificação | AK42: Feminino | AN42: Masculino
C43: Idade | E43: FC repouso | G43: FC máxima | I43: FC reserva | K43: % da FC de treino | M43: FC de treino | Q43: 15-19 | U43: =IF(AND(R40=0,T39<=19),VLOOKUP(V38,Q44:R48,2,TRUE),IF(AND(R40=0,T39<=29),VLOOKUP(V38,Q51:R55,2,TRUE),IF(AND(R40=0,T39<=39),VLOOKUP(V38,Q57:R61,2,TRUE),IF(AND(R40=0,T39<=49),VLOOKUP(V38,Q63:R67,2,TRUE),IF(AND(R40=0,T39<=59),VLOOKUP(V38,Q69:R73,2,TRUE),IF(AND(R40=0,T39<=69),VLOOKUP(V38,Q76:R80,2,TRUE),IF(AND(R40=1,T39<=19),VLOOKUP(V38,T50:U54,2,TRUE),IF(AND(R40=1,T39<=29),VLOOKUP(V38,T57:U61,2,TRUE),IF(AND(R40=1,T39<=39),VLOOKUP(V38,T63:U67,2,TRUE),IF(AND(R40=1,T39<=49),VLOOKUP(V38,T69:U73,2,TRUE),IF(AND(R40=1,T39<=59),VLOOKUP(V38,T75:U79,2,TRUE),IF(AND(R40=1,T39<=69),VLOOKUP(V38,T82:U86,2,TRUE),"-")))))))))))) -> #REF! | AB43: 15-19 | AF43: =IF(AND(AC40=0,AE39<=19),VLOOKUP(AG38,AB44:AC48,2,TRUE),IF(AND(AC40=0,AE39<=29),VLOOKUP(AG38,AB51:AC55,2,TRUE),IF(AND(AC40=0,AE39<=39),VLOOKUP(AG38,AB57:AC61,2,TRUE),IF(AND(AC40=0,AE39<=49),VLOOKUP(AG38,AB63:AC67,2,TRUE),IF(AND(AC40=0,AE39<=59),VLOOKUP(AG38,AB69:AC73,2,TRUE),IF(AND(AC40=0,AE39<=69),VLOOKUP(AG38,AB76:AC80,2,TRUE),IF(AND(AC40=1,AE39<=19),VLOOKUP(AG38,AE50:AF53,2,TRUE),IF(AND(AC40=1,AE39<=29),VLOOKUP(AG38,AE57:AF61,2,TRUE),IF(AND(AC40=1,AE39<=39),VLOOKUP(AG38,AE63:AF67,2,TRUE),IF(AND(AC40=1,AE39<=49),VLOOKUP(AG38,AE69:AF73,2,TRUE),IF(AND(AC40=1,AE39<=59),VLOOKUP(AG38,AE75:AF79,2,TRUE),IF(AND(AC40=1,AE39<=69),VLOOKUP(AG38,AE82:AF86,2,TRUE),"-")))))))))))) -> #REF! | AK43: <29 | AN43: <29
C44: =M10 -> - | E44: =E30 -> 0 | G44: ='TESTE (Balke 15 min.)'!AL30 -> 0 | I44: =G44-E44 -> 0 | K44: 1 | M44: =IF('TESTE (Balke 15 min.)'!E44=0,"Aguardando Dados",'TESTE (Balke 15 min.)'!E44+'TESTE (Balke 15 min.)'!K44*('TESTE (Balke 15 min.)'!G44-'TESTE (Balke 15 min.)'!E44)) -> Aguardando Dados | Q44: 1 | R44: Fraco | AB44: 1 | AC44: Fraco | AK44: 1 | AL44: M. Fraco | AN44: 1 | AO44: M. Fraco
C45: =C44 -> - | E45: =E44 -> 0 | G45: =G44 -> 0 | I45: =I44 -> 0 | K45: 0.95 | M45: =IF('TESTE (Balke 15 min.)'!E45=0,"Aguardando Dados",'TESTE (Balke 15 min.)'!E45+'TESTE (Balke 15 min.)'!K45*('TESTE (Balke 15 min.)'!G45-'TESTE (Balke 15 min.)'!E45)) -> Aguardando Dados | Q45: 27 | R45: Regular | AB45: 12 | AC45: Regular | AK45: 24 | AL45: Fraco | AN45: 25 | AO45: Fraco
C46: =C45 -> - | E46: =E45 -> 0 | G46: =G45 -> 0 | I46: =I45 -> 0 | K46: 0.9 | M46: =IF('TESTE (Balke 15 min.)'!E46=0,"Aguardando Dados",'TESTE (Balke 15 min.)'!E46+'TESTE (Balke 15 min.)'!K46*('TESTE (Balke 15 min.)'!G46-'TESTE (Balke 15 min.)'!E46)) -> Aguardando Dados | Q46: 32 | R46: Médio | AB46: 18 | AC46: Médio | AK46: 31 | AL46: Regular | AN46: 34 | AO46: Regular
C47: =C46 -> - | E47: =E46 -> 0 | G47: =G46 -> 0 | I47: =I46 -> 0 | K47: 0.85 | M47: =IF('TESTE (Balke 15 min.)'!E47=0,"Aguardando Dados",'TESTE (Balke 15 min.)'!E47+'TESTE (Balke 15 min.)'!K47*('TESTE (Balke 15 min.)'!G47-'TESTE (Balke 15 min.)'!E47)) -> Aguardando Dados | Q47: 36 | R47: Bom | AB47: 25 | AC47: Bom | AK47: 38 | AL47: Bom | AN47: 45 | AO47: Bom
C48: =C47 -> - | E48: =E47 -> 0 | G48: =G47 -> 0 | I48: =I47 -> 0 | K48: 0.8 | M48: =IF('TESTE (Balke 15 min.)'!E48=0,"Aguardando Dados",'TESTE (Balke 15 min.)'!E48+'TESTE (Balke 15 min.)'!K48*('TESTE (Balke 15 min.)'!G48-'TESTE (Balke 15 min.)'!E48)) -> Aguardando Dados | Q48: 42 | R48: Excelente | T48: Masculino | AB48: 33 | AC48: Excelente | AE48: Masculino | AK48: 49 | AL48: Excelente | AN48: 53 | AO48: Excelente
C49: =C48 -> - | E49: =E48 -> 0 | G49: =G48 -> 0 | I49: =I48 -> 0 | K49: 0.75 | M49: =IF('TESTE (Balke 15 min.)'!E49=0,"Aguardando Dados",'TESTE (Balke 15 min.)'!E49+'TESTE (Balke 15 min.)'!K49*('TESTE (Balke 15 min.)'!G49-'TESTE (Balke 15 min.)'!E49)) -> Aguardando Dados | T49: 15 - 19 | AE49: 15 - 19
C50: =C49 -> - | E50: =E49 -> 0 | G50: =G49 -> 0 | I50: =I49 -> 0 | K50: 0.7 | M50: =IF('TESTE (Balke 15 min.)'!E50=0,"Aguardando Dados",'TESTE (Balke 15 min.)'!E50+'TESTE (Balke 15 min.)'!K50*('TESTE (Balke 15 min.)'!G50-'TESTE (Balke 15 min.)'!E50)) -> Aguardando Dados | Q50: 20-29 | T50: 1 | U50: Fraco | AB50: 20-29 | AE50: 1 | AF50: Fraco | AK50: 30 - 39 | AN50: 30 - 39
C51: =C50 -> - | E51: =E50 -> 0 | G51: =G50 -> 0 | I51: =I50 -> 0 | K51: 0.65 | M51: =IF('TESTE (Balke 15 min.)'!E51=0,"Aguardando Dados",'TESTE (Balke 15 min.)'!E51+'TESTE (Balke 15 min.)'!K51*('TESTE (Balke 15 min.)'!G51-'TESTE (Balke 15 min.)'!E51)) -> Aguardando Dados | Q51: 1 | R51: Fraco | T51: 33 | U51: Regular | AB51: 1 | AC51: Fraco | AE51: 18 | AF51: Regular | AK51: 1 | AL51: M. Fraco | AN51: 1 | AO51: M. Fraco
C52: =C51 -> - | E52: =E51 -> 0 | G52: =G51 -> 0 | I52: =I51 -> 0 | K52: 0.6 | M52: =IF('TESTE (Balke 15 min.)'!E52=0,"Aguardando Dados",'TESTE (Balke 15 min.)'!E52+'TESTE (Balke 15 min.)'!K52*('TESTE (Balke 15 min.)'!G52-'TESTE (Balke 15 min.)'!E52)) -> Aguardando Dados | Q52: 21 | R52: Regular | T52: 38 | U52: Médio | AB52: 10 | AC52: Regular | AE52: 23 | AF52: Médio | AK52: 20 | AL52: Fraco | AN52: 23 | AO52: Fraco
C53: =C52 -> - | E53: =E52 -> 0 | G53: =G52 -> 0 | I53: =I52 -> 0 | K53: 0.55 | M53: =IF('TESTE (Balke 15 min.)'!E53=0,"Aguardando Dados",'TESTE (Balke 15 min.)'!E53+'TESTE (Balke 15 min.)'!K53*('TESTE (Balke 15 min.)'!G53-'TESTE (Balke 15 min.)'!E53)) -> Aguardando Dados | Q53: 25 | R53: Médio | T53: 42 | U53: Bom | AB53: 15 | AC53: Médio | AE53: 29 | AF53: Bom | AK53: 28 | AL53: Regular | AN53: 31 | AO53: Regular
C54: =C53 -> - | E54: =E53 -> 0 | G54: =G53 -> 0 | I54: =I53 -> 0 | K54: 0.5 | M54: =IF('TESTE (Balke 15 min.)'!E54=0,"Aguardando Dados",'TESTE (Balke 15 min.)'!E54+'TESTE (Balke 15 min.)'!K54*('TESTE (Balke 15 min.)'!G54-'TESTE (Balke 15 min.)'!E54)) -> Aguardando Dados | Q54: 31 | R54: Bom | T54: 48 | U54: Excelente | AB54: 21 | AC54: Bom | AE54: 39 | AF54: Excelente | AK54: 38 | AL54: Bom | AN54: 39 | AO54: Bom
Q55: 36 | R55: Excelente | AB55: 30 | AC55: Excelente | AK55: 45 | AL55: Excelente | AN55: 49 | AO55: Excelente
Q56: 30 -39 | T56: 20 - 29 | AB56: 30 -39 | AE56: 20 - 29 | AK56: 40 - 49 | AN56: 40 - 49
B57: Zonas de Treino de Corrida | Q57: 1 | R57: Fraco | T57: 1 | U57: Fraco | AB57: 1 | AC57: Fraco | AE57: 1 | AF57: Fraco | AK57: 1 | AL57: M. Fraco | AN57: 1 | AO57: M. Fraco
Q58: 15 | R58: Regular | T58: 29 | U58: Regular | AB58: 8 | AC58: Regular | AE58: 17 | AF58: Regular | AK58: 17 | AL58: Fraco | AN58: 20 | AO58: Fraco
Q59: 20 | R59: Médio | T59: 33 | U59: Médio | AB59: 13 | AC59: Médio | AE59: 22 | AF59: Médio | AK59: 24 | AL59: Regular | AN59: 27 | AO59: Regular
E60: Zona 1 | G60: 40% a 60% | I60: =IF($K$33="-","-",(((($AJ$82-AJ99)/60)+$AJ$84)/1440)) -> - | J60: a | K60: =IF($K$33="-","-",(((($AJ$82-AK99)/60)+$AJ$84)/1440)) -> - | Q60: 24 | R60: Bom | T60: 37 | U60: Bom | AB60: 20 | AC60: Bom | AE60: 19 | AF60: Bom | AK60: 31 | AL60: Bom | AN60: 36 | AO60: Bom
E61: Zona 2 | G61: 61% a 70% | I61: =IF($K$33="-","-",(((($AJ$82-AJ100)/60)+$AJ$84)/1440)) -> - | J61: a | K61: =IF($K$33="-","-",(((($AJ$82-AK100)/60)+$AJ$84)/1440)) -> - | Q61: 29 | R61: Excelente | T61: 43 | U61: Excelente | AB61: 27 | AC61: Excelente | AE61: 36 | AF61: Excelente | AK61: 42 | AL61: Excelente | AN61: 45 | AO61: Excelente
E62: Zona 3 | G62: 71% a 85% | I62: =IF($K$33="-","-",(((($AJ$82-AJ101)/60)+$AJ$84)/1440)) -> - | J62: a | K62: =IF($K$33="-","-",(((($AJ$82-AK101)/60)+$AJ$84)/1440)) -> - | Q62: 40 -49 | T62: 30 - 39 | AB62: 40 -49 | AE62: 30 - 39 | AK62: 50 - 59 | AN62: 50 - 59
E63: Zona 4 | G63: 86% a 95% | I63: =IF($K$33="-","-",(((($AJ$82-AJ102)/60)+$AJ$84)/1440)) -> - | J63: a | K63: =IF($K$33="-","-",(((($AJ$82-AK102)/60)+$AJ$84)/1440)) -> - | Q63: 1 | R63: Fraco | T63: 1 | U63: Fraco | AB63: 1 | AC63: Fraco | AE63: 1 | AF63: Fraco | AK63: 1 | AL63: M. Fraco | AN63: 1 | AO63: M. Fraco
E64: Zona 5 | G64: 96% a 100% | I64: =IF($K$33="-","-",(((($AJ$82-AJ103)/60)+$AJ$84)/1440)) -> - | J64: a | K64: =IF($K$33="-","-",(((($AJ$82-AK103)/60)+$AJ$84)/1440)) -> - | Q64: 7 | R64: Regular | T64: 22 | U64: Regular | AB64: 5 | AC64: Regular | AE64: 12 | AF64: Regular | AK64: 15 | AL64: Fraco | AN64: 18 | AO64: Fraco
Q65: 15 | R65: Médio | T65: 27 | U65: Médio | AB65: 11 | AC65: Médio | AE65: 17 | AF65: Médio | AK65: 21 | AL65: Regular | AN65: 25 | AO65: Regular
Q66: 20 | R66: Bom | T66: 31 | U66: Bom | AB66: 15 | AC66: Bom | AE66: 22 | AF66: Bom | AK66: 28 | AL66: Bom | AN66: 34 | AO66: Bom
B67: Equivalência de Tempo | Q67: 25 | R67: Excelente | T67: 36 | U67: Excelente | AB67: 24 | AC67: Excelente | AE67: 30 | AF67: Excelente | AK67: 38 | AL67: Excelente | AN67: 43 | AO67: Excelente
Q68: 50 - 59 | T68: 40 -49 | AB68: 50 - 59 | AE68: 40 -49 | AK68: 60 - 69 | AN68: 60 - 69
Q69: 1 | R69: Fraco | T69: 1 | U69: Fraco | AB69: 1 | AC69: Fraco | AE69: 1 | AF69: Fraco | AK69: 1 | AL69: M. Fraco | AN69: 1 | AO69: M. Fraco
C70: Entre com a distância e com o tempo | Q70: 3 | R70: Regular | T70: 17 | U70: Regular | AB70: 2 | AC70: Regular | AE70: 10 | AF70: Regular | AK70: 13 | AL70: Fraco | AN70: 16 | AO70: Fraco
C71: Distância (m) | Q71: 5 | R71: Médio | T71: 22 | U71: Médio | AB71: 7 | AC71: Médio | AE71: 13 | AF71: Médio | AK71: 18 | AL71: Regular | AN71: 23 | AO71: Regular
C72: Tempo (h:m:s) | Q72: 12 | R72: Bom | T72: 26 | U72: Bom | AB72: 11 | AC72: Bom | AE72: 17 | AF72: Bom | AK72: 24 | AL72: Bom | AN72: 31 | AO72: Bom
Q73: 19 | R73: Excelente | T73: 36 | U73: Excelente | AB73: 21 | AC73: Excelente | AE73: 22 | AF73: Excelente | AK73: 35 | AL73: Excelente | AN73: 41 | AO73: Excelente
C74: 100 | E74: 1000 | G74: 5000 | I74: 10000 | K74: 21100 | M74: 42200 | T74: 50 - 59 | AE74: 50 - 59
C75: =IF($E$72="","-",($E$72/$E$71)*C74) -> - | E75: =IF($E$72="","-",($E$72/$E$71)*E74) -> - | G75: =IF($E$72="","-",($E$72/$E$71)*G74) -> - | I75: =IF($E$72="","-",($E$72/$E$71)*I74) -> - | K75: =IF($E$72="","-",($E$72/$E$71)*K74) -> - | M75: =IF($E$72="","-",($E$72/$E$71)*M74) -> - | Q75: 60 - 69 | T75: 1 | U75: Fraco | AB75: 60 - 69 | AE75: 1 | AF75: Fraco
Q76: 1 | R76: Fraco | T76: 13 | U76: Regular | AB76: 1 | AC76: Fraco | AE76: 7 | AF76: Regular
Q77: 2 | R77: Regular | T77: 18 | U77: Médio | AB77: 1 | AC77: Regular | AE77: 10 | AF77: Médio
Q78: 4 | R78: Médio | T78: 22 | U78: Bom | AB78: 5 | AC78: Médio | AE78: 13 | AF78: Bom
Q79: 12 | R79: Bom | T79: 31 | U79: Excelente | AB79: 12 | AC79: Bom | AE79: 21 | AF79: Excelente | AJ79: =24*60*60 -> 86400
Q80: 16 | R80: Excelente | AB80: 17 | AC80: Excelente
T81: 60 - 69 | AE81: 60 - 69
T82: 1 | U82: Fraco | AE82: 1.01 | AF82: Fraco | AJ82: =K33*AJ79 -> #VALUE!
T83: 7 | U83: Regular | AE83: 5 | AF83: Regular
T84: 12 | U84: Médio | AE84: 8 | AF84: Médio | AJ84: =AJ82/60 -> #VALUE!
T85: 11 | U85: Bom | AE85: 11 | AF85: Bom
T86: 26 | U86: Excelente | AE86: 18 | AF86: Excelente
AJ90: 0.4 | AK90: 0.6
AJ91: 0.61 | AK91: 0.7
AJ92: 0.71 | AK92: 0.85
AJ93: 0.86 | AK93: 0.95
AJ94: 0.96 | AK94: 1
AJ99: =$AJ$82*AJ90 -> #VALUE! | AK99: =$AJ$82*AK90 -> #VALUE!
AJ100: =$AJ$82*AJ91 -> #VALUE! | AK100: =$AJ$82*AK91 -> #VALUE!
AJ101: =$AJ$82*AJ92 -> #VALUE! | AK101: =$AJ$82*AK92 -> #VALUE!
AJ102: =$AJ$82*AJ93 -> #VALUE! | AK102: =$AJ$82*AK93 -> #VALUE!
AJ103: =$AJ$82*AJ94 -> #VALUE! | AK103: =$AJ$82*AK94 -> #VALUE!

Sheet TESTE (Caminhada 1600m)
B7: Dados Pessoais | AL7: 0 | AM7: Baixo peso severo
AL8: 16.1 | AM8: Baixo peso moderado
C9: Nome completo | I9: Data de Nasc. | K9: Sexo | M9: Idade | AL9: 17 | AM9: Baixo peso leve
M10: =IF(I10="","-",INT((AL18-I10)/365.25)) -> - | AL10: 18.5 | AM10: Peso normal
AL11: 25 | AM11: Pré-obesidade
C12: Massa (kg) | E12: Altura (m) | G12: IMC | I12: Classificação IMC | M12: P.A. (mmHg) | AL12: 30 | AM12: Obesidade Grau I
G13: =IF(E13="","-",SUM(C13/(E13*E13))) -> - | I13: =IF(E13="","-",VLOOKUP(G13,AL7:AN14,2,TRUE)) -> - | AL13: 35 | AM13: Obesidade Grau II
AL14: 40 | AM14: Obesidade Grau III
C15: Telefone | E15: email | I15: Plano de saúde
AL17: 40 | AM17: obesidade muito alta
AL18: =TODAY() -> 44807
AL23: 0.0083333333
B26: Teste de Rockport - 1600m (1 milha) | S26: =C30 -> 0
C29: Tempo em min. | E29: F.C. final. (bpm) | G29: F.C. máx. (bpm) | I29: Consumo máximo de oxigênio
I30: =IF(C30="","-",IF(K10="feminino",(132.853-(0.0769*C13/0.454)-(0.3877*M10)+(6.315*0)-(3.2649*C30)-(0.1565*E30)),(132.853-(0.0769*C13/0.454)-(0.3877*M10)+(6.315*1)-(3.2649*C30)-(0.1565*E30)))) -> - | K30: =IF(C13="","-",((I30*C13)/1000)) -> - | AL30: =E30 -> 0
AR31: resultado
C32: Clasificação: | G32: F.C. rep. (bpm) | I32: METS | AP32: idade | AR32: =I30 -> -
C33: =IF(C30="","-",AQ37) -> - | I33: =IF(I30="-","-",(I30/3.5)) -> - | AN33: genero | AP33: =M10 -> -
I34: =C30 -> 0 | AN34: =IF(K10="feminino",0,1) -> 1
AQ36: Classificação
V37: resultado | AG37: resultado | AQ37: =IF(AND(AN34=0,AP33<=29),VLOOKUP(AR32,AK44:AL48,2,TRUE),IF(AND(AN34=0,AP33<=39),VLOOKUP(AR32,AK51:AL55,2,TRUE),IF(AND(AN34=0,AP33<=49),VLOOKUP(AR32,AK57:AL61,2,TRUE),IF(AND(AN34=0,AP33<=59),VLOOKUP(AR32,AK63:AL67,2,TRUE),IF(AND(AN34=0,AP33<=69),VLOOKUP(AR32,AK69:AL73,2,TRUE),IF(AND(AN34=1,AP33<=29),VLOOKUP(AR32,AN44:AO48,2,TRUE),IF(AND(AN34=1,AP33<=39),VLOOKUP(AR32,AN51:AO55,2,TRUE),IF(AND(AN34=1,AP33<=49),VLOOKUP(AR32,AN57:AO61,2,TRUE),IF(AND(AN34=1,AP33<=59),VLOOKUP(AR32,AN63:AO67,2,TRUE),IF(AND(AN34=1,AP33<=69),VLOOKUP(AR32,AN69:AO73,2,TRUE),"-")))))))))) -> -
T38: idade | V38: =#REF! -> #REF! | AE38: idade | AG38: =#REF! -> #REF!
R39: genero | T39: =#REF! -> #REF! | AC39: genero | AE39: =#REF! -> #REF!
B40: Tabela de Frequência Cardíaca | AC40: =R40 -> 0
U41: força abdominal | AF41: força de braço
Q42: Feminino | U42: Classificação | AB42: Feminino | AF42: Classificação | AK42: Feminino | AN42: Masculino
C43: Idade | E43: FC repouso | G43: FC máxima | I43: FC reserva | K43: % da FC de treino | M43: FC de treino | Q43: 15-19 | U43: =IF(AND(R40=0,T39<=19),VLOOKUP(V38,Q44:R48,2,TRUE),IF(AND(R40=0,T39<=29),VLOOKUP(V38,Q51:R55,2,TRUE),IF(AND(R40=0,T39<=39),VLOOKUP(V38,Q57:R61,2,TRUE),IF(AND(R40=0,T39<=49),VLOOKUP(V38,Q63:R67,2,TRUE),IF(AND(R40=0,T39<=59),VLOOKUP(V38,Q69:R73,2,TRUE),IF(AND(R40=0,T39<=69),VLOOKUP(V38,Q76:R80,2,TRUE),IF(AND(R40=1,T39<=19),VLOOKUP(V38,T50:U54,2,TRUE),IF(AND(R40=1,T39<=29),VLOOKUP(V38,T57:U61,2,TRUE),IF(AND(R40=1,T39<=39),VLOOKUP(V38,T63:U67,2,TRUE),IF(AND(R40=1,T39<=49),VLOOKUP(V38,T69:U73,2,TRUE),IF(AND(R40=1,T39<=59),VLOOKUP(V38,T75:U79,2,TRUE),IF(AND(R40=1,T39<=69),VLOOKUP(V38,T82:U86,2,TRUE),"-")))))))))))) -> #REF! | AB43: 15-19 | AF43: =IF(AND(AC40=0,AE39<=19),VLOOKUP(AG38,AB44:AC48,2,TRUE),IF(AND(AC40=0,AE39<=29),VLOOKUP(AG38,AB51:AC55,2,TRUE),IF(AND(AC40=0,AE39<=39),VLOOKUP(AG38,AB57:AC61,2,TRUE),IF(AND(AC40=0,AE39<=49),VLOOKUP(AG38,AB63:AC67,2,TRUE),IF(AND(AC40=0,AE39<=59),VLOOKUP(AG38,AB69:AC73,2,TRUE),IF(AND(AC40=0,AE39<=69),VLOOKUP(AG38,AB76:AC80,2,TRUE),IF(AND(AC40=1,AE39<=19),VLOOKUP(AG38,AE50:AF53,2,TRUE),IF(AND(AC40=1,AE39<=29),VLOOKUP(AG38,AE57:AF61,2,TRUE),IF(AND(AC40=1,AE39<=39),VLOOKUP(AG38,AE63:AF67,2,TRUE),IF(AND(AC40=1,AE39<=49),VLOOKUP(AG38,AE69:AF73,2,TRUE),IF(AND(AC40=1,AE39<=59),VLOOKUP(AG38,AE75:AF79,2,TRUE),IF(AND(AC40=1,AE39<=69),VLOOKUP(AG38,AE82:AF86,2,TRUE),"-")))))))))))) -> #REF! | AK43: <29 | AN43: <29
C44: =M10 -> - | E44: =G33 -> 0 | G44: ='TESTE (Caminhada 1600m)'!AL30 -> 0 | I44: =G44-E44 -> 0 | K44: 1 | M44: =IF('TESTE (Caminhada 1600m)'!E44=0,"Aguardando Dados",'TESTE (Caminhada 1600m)'!E44+'TESTE (Caminhada 1600m)'!K44*('TESTE (Caminhada 1600m)'!G44-'TESTE (Caminhada 1600m)'!E44)) -> Aguardando Dados | Q44: 1 | R44: Fraco | AB44: 1 | AC44: Fraco | AK44: 1 | AL44: M. Fraco | AN44: 1 | AO44: M. Fraco
C45: =C44 -> - | E45: =E44 -> 0 | G45: =G44 -> 0 | I45: =I44 -> 0 | K45: 0.95 | M45: =IF('TESTE (Caminhada 1600m)'!E45=0,"Aguardando Dados",'TESTE (Caminhada 1600m)'!E45+'TESTE (Caminhada 1600m)'!K45*('TESTE (Caminhada 1600m)'!G45-'TESTE (Caminhada 1600m)'!E45)) -> Aguardando Dados | Q45: 27 | R45: Regular | AB45: 12 | AC45: Regular | AK45: 24 | AL45: Fraco | AN45: 25 | AO45: Fraco
C46: =C45 -> - | E46: =E45 -> 0 | G46: =G45 -> 0 | I46: =I45 -> 0 | K46: 0.9 | M46: =IF('TESTE (Caminhada 1600m)'!E46=0,"Aguardando Dados",'TESTE (Caminhada 1600m)'!E46+'TESTE (Caminhada 1600m)'!K46*('TESTE (Caminhada 1600m)'!G46-'TESTE (Caminhada 1600m)'!E46)) -> Aguardando Dados | Q46: 32 | R46: Médio | AB46: 18 | AC46: Médio | AK46: 31 | AL46: Regular | AN46: 34 | AO46: Regular
C47: =C46 -> - | E47: =E46 -> 0 | G47: =G46 -> 0 | I47: =I46 -> 0 | K47: 0.85 | M47: =IF('TESTE (Caminhada 1600m)'!E47=0,"Aguardando Dados",'TESTE (Caminhada 1600m)'!E47+'TESTE (Caminhada 1600m)'!K47*('TESTE (Caminhada 1600m)'!G47-'TESTE (Caminhada 1600m)'!E47)) -> Aguardando Dados | Q47: 36 | R47: Bom | AB47: 25 | AC47: Bom | AK47: 38 | AL47: Bom | AN47: 45 | AO47: Bom
C48: =C47 -> - | E48: =E47 -> 0 | G48: =G47 -> 0 | I48: =I47 -> 0 | K48: 0.8 | M48: =IF('TESTE (Caminhada 1600m)'!E48=0,"Aguardando Dados",'TESTE (Caminhada 1600m)'!E48+'TESTE (Caminhada 1600m)'!K48*('TESTE (Caminhada 1600m)'!G48-'TESTE (Caminhada 1600m)'!E48)) -> Aguardando Dados | Q48: 42 | R48: Excelente | T48: Masculino | AB48: 33 | AC48: Excelente | AE48: Masculino | AK48: 49 | AL48: Excelente | AN48: 53 | AO48: Excelente
C49: =C48 -> - | E49: =E48 -> 0 | G49: =G48 -> 0 | I49: =I48 -> 0 | K49: 0.75 | M49: =IF('TESTE (Caminhada 1600m)'!E49=0,"Aguardando Dados",'TESTE (Caminhada 1600m)'!E49+'TESTE (Caminhada 1600m)'!K49*('TESTE (Caminhada 1600m)'!G49-'TESTE (Caminhada 1600m)'!E49)) -> Aguardando Dados | T49: 15 - 19 | AE49: 15 - 19
C50: =C49 -> - | E50: =E49 -> 0 | G50: =G49 -> 0 | I50: =I49 -> 0 | K50: 0.7 | M50: =IF('TESTE (Caminhada 1600m)'!E50=0,"Aguardando Dados",'TESTE (Caminhada 1600m)'!E50+'TESTE (Caminhada 1600m)'!K50*('TESTE (Caminhada 1600m)'!G50-'TESTE (Caminhada 1600m)'!E50)) -> Aguardando Dados | Q50: 20-29 | T50: 1 | U50: Fraco | AB50: 20-29 | AE50: 1 | AF50: Fraco | AK50: 30 - 39 | AN50: 30 - 39
C51: =C50 -> - | E51: =E50 -> 0 | G51: =G50 -> 0 | I51: =I50 -> 0 | K51: 0.65 | M51: =IF('TESTE (Caminhada 1600m)'!E51=0,"Aguardando Dados",'TESTE (Caminhada 1600m)'!E51+'TESTE (Caminhada 1600m)'!K51*('TESTE (Caminhada 1600m)'!G51-'TESTE (Caminhada 1600m)'!E51)) -> Aguardando Dados | Q51: 1 | R51: Fraco | T51: 33 | U51: Regular | AB51: 1 | AC51: Fraco | AE51: 18 | AF51: Regular | AK51: 1 | AL51: M. Fraco | AN51: 1 | AO51: M. Fraco
C52: =C51 -> - | E52: =E51 -> 0 | G52: =G51 -> 0 | I52: =I51 -> 0 | K52: 0.6 | M52: =IF('TESTE (Caminhada 1600m)'!E52=0,"Aguardando Dados",'TESTE (Caminhada 1600m)'!E52+'TESTE (Caminhada 1600m)'!K52*('TESTE (Caminhada 1600m)'!G52-'TESTE (Caminhada 1600m)'!E52)) -> Aguardando Dados | Q52: 21 | R52: Regular | T52: 38 | U52: Médio | AB52: 10 | AC52: Regular | AE52: 23 | AF52: Médio | AK52: 20 | AL52: Fraco | AN52: 23 | AO52: Fraco
C53: =C52 -> - | E53: =E52 -> 0 | G53: =G52 -> 0 | I53: =I52 -> 0 | K53: 0.55 | M53: =IF('TESTE (Caminhada 1600m)'!E53=0,"Aguardando Dados",'TESTE (Caminhada 1600m)'!E53+'TESTE (Caminhada 1600m)'!K53*('TESTE (Caminhada 1600m)'!G53-'TESTE (Caminhada 1600m)'!E53)) -> Aguardando Dados | Q53: 25 | R53: Médio | T53: 42 | U53: Bom | AB53: 15 | AC53: Médio | AE53: 29 | AF53: Bom | AK53: 28 | AL53: Regular | AN53: 31 | AO53: Regular
C54: =C53 -> - | E54: =E53 -> 0 | G54: =G53 -> 0 | I54: =I53 -> 0 | K54: 0.5 | M54: =IF('TESTE (Caminhada 1600m)'!E54=0,"Aguardando Dados",'TESTE (Caminhada 1600m)'!E54+'TESTE (Caminhada 1600m)'!K54*('TESTE (Caminhada 1600m)'!G54-'TESTE (Caminhada 1600m)'!E54)) -> Aguardando Dados | Q54: 31 | R54: Bom | T54: 48 | U54: Excelente | AB54: 21 | AC54: Bom | AE54: 39 | AF54: Excelente | AK54: 38 | AL54: Bom | AN54: 39 | AO54: Bom
Q55: 36 | R55: Excelente | AB55: 30 | AC55: Excelente | AK55: 45 | AL55: Excelente | AN55: 49 | AO55: Excelente
Q56: 30 -39 | T56: 20 - 29 | AB56: 30 -39 | AE56: 20 - 29 | AK56: 40 - 49 | AN56: 40 - 49
B57: Zonas de Treino de Corrida | Q57: 1 | R57: Fraco | T57: 1 | U57: Fraco | AB57: 1 | AC57: Fraco | AE57: 1 | AF57: Fraco | AK57: 1 | AL57: M. Fraco | AN57: 1 | AO57: M. Fraco
Q58: 15 | R58: Regular | T58: 29 | U58: Regular | AB58: 8 | AC58: Regular | AE58: 17 | AF58: Regular | AK58: 17 | AL58: Fraco | AN58: 20 | AO58: Fraco
Q59: 20 | R59: Médio | T59: 33 | U59: Médio | AB59: 13 | AC59: Médio | AE59: 22 | AF59: Médio | AK59: 24 | AL59: Regular | AN59: 27 | AO59: Regular
E60: Zona 1 | G60: 40% a 60% | I60: =IF($K$33="-","-",(((($AJ$82-AJ99)/60)+$AJ$84)/1440)) -> 0 | J60: a | K60: =IF($K$33="-","-",(((($AJ$82-AK99)/60)+$AJ$84)/1440)) -> 0 | Q60: 24 | R60: Bom | T60: 37 | U60: Bom | AB60: 20 | AC60: Bom | AE60: 19 | AF60: Bom | AK60: 31 | AL60: Bom | AN60: 36 | AO60: Bom
E61: Zona 2 | G61: 61% a 70% | I61: =IF($K$33="-","-",(((($AJ$82-AJ100)/60)+$AJ$84)/1440)) -> 0 | J61: a | K61: =IF($K$33="-","-",(((($AJ$82-AK100)/60)+$AJ$84)/1440)) -> 0 | Q61: 29 | R61: Excelente | T61: 43 | U61: Excelente | AB61: 27 | AC61: Excelente | AE61: 36 | AF61: Excelente | AK61: 42 | AL61: Excelente | AN61: 45 | AO61: Excelente
E62: Zona 3 | G62: 71% a 85% | I62: =IF($K$33="-","-",(((($AJ$82-AJ101)/60)+$AJ$84)/1440)) -> 0 | J62: a | K62: =IF($K$33="-","-",(((($AJ$82-AK101)/60)+$AJ$84)/1440)) -> 0 | Q62: 40 -49 | T62: 30 - 39 | AB62: 40 -49 | AE62: 30 - 39 | AK62: 50 - 59 | AN62: 50 - 59
E63: Zona 4 | G63: 86% a 95% | I63: =IF($K$33="-","-",(((($AJ$82-AJ102)/60)+$AJ$84)/1440)) -> 0 | J63: a | K63: =IF($K$33="-","-",(((($AJ$82-AK102)/60)+$AJ$84)/1440)) -> 0 | Q63: 1 | R63: Fraco | T63: 1 | U63: Fraco | AB63: 1 | AC63: Fraco | AE63: 1 | AF63: Fraco | AK63: 1 | AL63: M. Fraco | AN63: 1 | AO63: M. Fraco
E64: Zona 5 | G64: 96% a 100% | I64: =IF($K$33="-","-",(((($AJ$82-AJ103)/60)+$AJ$84)/1440)) -> 0 | J64: a | K64: =IF($K$33="-","-",(((($AJ$82-AK103)/60)+$AJ$84)/1440)) -> 0 | Q64: 7 | R64: Regular | T64: 22 | U64: Regular | AB64: 5 | AC64: Regular | AE64: 12 | AF64: Regular | AK64: 15 | AL64: Fraco | AN64: 18 | AO64: Fraco
Q65: 15 | R65: Médio | T65: 27 | U65: Médio | AB65: 11 | AC65: Médio | AE65: 17 | AF65: Médio | AK65: 21 | AL65: Regular | AN65: 25 | AO65: Regular
Q66: 20 | R66: Bom | T66: 31 | U66: Bom | AB66: 15 | AC66: Bom | AE66: 22 | AF66: Bom | AK66: 28 | AL66: Bom | AN66: 34 | AO66: Bom
B67: Equivalência de Tempo | Q67: 25 | R67: Excelente | T67: 36 | U67: Excelente | AB67: 24 | AC67: Excelente | AE67: 30 | AF67: Excelente | AK67: 38 | AL67: Excelente | AN67: 43 | AO67: Excelente
Q68: 50 - 59 | T68: 40 -49 | AB68: 50 - 59 | AE68: 40 -49 | AK68: 60 - 69 | AN68: 60 - 69
Q69: 1 | R69: Fraco | T69: 1 | U69: Fraco | AB69: 1 | AC69: Fraco | AE69: 1 | AF69: Fraco | AK69: 1 | AL69: M. Fraco | AN69: 1 | AO69: M. Fraco
C70: Entre com a distância e com o tempo | Q70: 3 | R70: Regular | T70: 17 | U70: Regular | AB70: 2 | AC70: Regular | AE70: 10 | AF70: Regular | AK70: 13 | AL70: Fraco | AN70: 16 | AO70: Fraco
C71: Distância (m) | Q71: 5 | R71: Médio | T71: 22 | U71: Médio | AB71: 7 | AC71: Médio | AE71: 13 | AF71: Médio | AK71: 18 | AL71: Regular | AN71: 23 | AO71: Regular
C72: Tempo (h:m:s) | Q72: 12 | R72: Bom | T72: 26 | U72: Bom | AB72: 11 | AC72: Bom | AE72: 17 | AF72: Bom | AK72: 24 | AL72: Bom | AN72: 31 | AO72: Bom
Q73: 19 | R73: Excelente | T73: 36 | U73: Excelente | AB73: 21 | AC73: Excelente | AE73: 22 | AF73: Excelente | AK73: 35 | AL73: Excelente | AN73: 41 | AO73: Excelente
C74: 100 | E74: 1000 | G74: 5000 | I74: 10000 | K74: 21100 | M74: 42200 | T74: 50 - 59 | AE74: 50 - 59
C75: =IF($E$72="","-",($E$72/$E$71)*C74) -> - | E75: =IF($E$72="","-",($E$72/$E$71)*E74) -> - | G75: =IF($E$72="","-",($E$72/$E$71)*G74) -> - | I75: =IF($E$72="","-",($E$72/$E$71)*I74) -> - | K75: =IF($E$72="","-",($E$72/$E$71)*K74) -> - | M75: =IF($E$72="","-",($E$72/$E$71)*M74) -> - | Q75: 60 - 69 | T75: 1 | U75: Fraco | AB75: 60 - 69 | AE75: 1 | AF75: Fraco
Q76: 1 | R76: Fraco | T76: 13 | U76: Regular | AB76: 1 | AC76: Fraco | AE76: 7 | AF76: Regular
Q77: 2 | R77: Regular | T77: 18 | U77: Médio | AB77: 1 | AC77: Regular | AE77: 10 | AF77: Médio
Q78: 4 | R78: Médio | T78: 22 | U78: Bom | AB78: 5 | AC78: Médio | AE78: 13 | AF78: Bom
Q79: 12 | R79: Bom | T79: 31 | U79: Excelente | AB79: 12 | AC79: Bom | AE79: 21 | AF79: Excelente | AJ79: =24*60*60 -> 86400
Q80: 16 | R80: Excelente | AB80: 17 | AC80: Excelente
T81: 60 - 69 | AE81: 60 - 69
T82: 1 | U82: Fraco | AE82: 1.01 | AF82: Fraco | AJ82: =K33*AJ79 -> 0
T83: 7 | U83: Regular | AE83: 5 | AF83: Regular
T84: 12 | U84: Médio | AE84: 8 | AF84: Médio | AJ84: =AJ82/60 -> 0
T85: 11 | U85: Bom | AE85: 11 | AF85: Bom
T86: 26 | U86: Excelente | AE86: 18 | AF86: Excelente
AJ90: 0.4 | AK90: 0.6
AJ91: 0.61 | AK91: 0.7
AJ92: 0.71 | AK92: 0.85
AJ93: 0.86 | AK93: 0.95
AJ94: 0.96 | AK94: 1
AJ99: =$AJ$82*AJ90 -> 0 | AK99: =$AJ$82*AK90 -> 0
AJ100: =$AJ$82*AJ91 -> 0 | AK100: =$AJ$82*AK91 -> 0
AJ101: =$AJ$82*AJ92 -> 0 | AK101: =$AJ$82*AK92 -> 0
AJ102: =$AJ$82*AJ93 -> 0 | AK102: =$AJ$82*AK93 -> 0
AJ103: =$AJ$82*AJ94 -> 0 | AK103: =$AJ$82*AK94 -> 0

Sheet TESTE (Fox - bicicleta)
B7: Dados Pessoais | AL7: 0 | AM7: Baixo peso severo
AL8: 16.1 | AM8: Baixo peso moderado
C9: Nome completo | I9: Data de Nasc. | K9: Sexo | M9: Idade | AL9: 17 | AM9: Baixo peso leve
M10: =IF(I10="","-",INT((AL18-I10)/365.25)) -> - | AL10: 18.5 | AM10: Peso normal
AL11: 25 | AM11: Pré-obesidade
C12: Massa (kg) | E12: Altura (m) | G12: IMC | I12: Classificação IMC | M12: P.A. (mmHg) | S12: =IF(C13="","-",((I30*C13)/1000)) -> - | AL12: 30 | AM12: Obesidade Grau I
G13: =IF(E13="","-",SUM(C13/(E13*E13))) -> - | I13: =IF(E13="","-",VLOOKUP(G13,AL7:AN14,2,TRUE)) -> - | AL13: 35 | AM13: Obesidade Grau II
AL14: 40 | AM14: Obesidade Grau III
C15: Telefone | E15: email | I15: Plano de saúde
AL17: 40 | AM17: obesidade muito alta
AL18: =TODAY() -> 44807
AL23: 0.0083333333
B26: Teste Fox - Bicicleta 5 min.
S27: =IF(C30="","-",(6300-(19.26*C30))) -> -
C29: FC do 5º minuto | E29: F.C. rep. (bpm) | G29: F.C. máx. (bpm) | I29: Consumo máximo de oxigênio
I30: =IF(C13="","-",K30/C13*1000) -> - | K30: =IF(C30="","-",S27/1000) -> - | AL30: =G30 -> 0
AR31: resultado
C32: Clasificação: | I32: METS | AP32: idade | AR32: =I30 -> -
C33: =IF(C30="","-",AQ37) -> - | I33: =IF(I30="-","-",(I30/3.5)) -> - | AN33: genero | AP33: =M10 -> -
I34: =C30 -> 0 | AN34: =IF(K10="feminino",0,1) -> 1
AQ36: Classificação
V37: resultado | AG37: resultado | AQ37: =IF(AND(AN34=0,AP33<=29),VLOOKUP(AR32,AK44:AL48,2,TRUE),IF(AND(AN34=0,AP33<=39),VLOOKUP(AR32,AK51:AL55,2,TRUE),IF(AND(AN34=0,AP33<=49),VLOOKUP(AR32,AK57:AL61,2,TRUE),IF(AND(AN34=0,AP33<=59),VLOOKUP(AR32,AK63:AL67,2,TRUE),IF(AND(AN34=0,AP33<=69),VLOOKUP(AR32,AK69:AL73,2,TRUE),IF(AND(AN34=1,AP33<=29),VLOOKUP(AR32,AN44:AO48,2,TRUE),IF(AND(AN34=1,AP33<=39),VLOOKUP(AR32,AN51:AO55,2,TRUE),IF(AND(AN34=1,AP33<=49),VLOOKUP(AR32,AN57:AO61,2,TRUE),IF(AND(AN34=1,AP33<=59),VLOOKUP(AR32,AN63:AO67,2,TRUE),IF(AND(AN34=1,AP33<=69),VLOOKUP(AR32,AN69:AO73,2,TRUE),"-")))))))))) -> -
T38: idade | V38: =#REF! -> #REF! | AE38: idade | AG38: =#REF! -> #REF!
R39: genero | T39: =#REF! -> #REF! | AC39: genero | AE39: =#REF! -> #REF!
B40: Tabela de Frequência Cardíaca | AC40: =R40 -> 0
U41: força abdominal | AF41: força de braço
Q42: Feminino | U42: Classificação | AB42: Feminino | AF42: Classificação | AK42: Feminino | AN42: Masculino
C43: Idade | E43: FC repouso | G43: FC máxima | I43: FC reserva | K43: % da FC de treino | M43: FC de treino | Q43: 15-19 | U43: =IF(AND(R40=0,T39<=19),VLOOKUP(V38,Q44:R48,2,TRUE),IF(AND(R40=0,T39<=29),VLOOKUP(V38,Q51:R55,2,TRUE),IF(AND(R40=0,T39<=39),VLOOKUP(V38,Q57:R61,2,TRUE),IF(AND(R40=0,T39<=49),VLOOKUP(V38,Q63:R67,2,TRUE),IF(AND(R40=0,T39<=59),VLOOKUP(V38,Q69:R73,2,TRUE),IF(AND(R40=0,T39<=69),VLOOKUP(V38,Q76:R80,2,TRUE),IF(AND(R40=1,T39<=19),VLOOKUP(V38,T50:U54,2,TRUE),IF(AND(R40=1,T39<=29),VLOOKUP(V38,T57:U61,2,TRUE),IF(AND(R40=1,T39<=39),VLOOKUP(V38,T63:U67,2,TRUE),IF(AND(R40=1,T39<=49),VLOOKUP(V38,T69:U73,2,TRUE),IF(AND(R40=1,T39<=59),VLOOKUP(V38,T75:U79,2,TRUE),IF(AND(R40=1,T39<=69),VLOOKUP(V38,T82:U86,2,TRUE),"-")))))))))))) -> #REF! | AB43: 15-19 | AF43: =IF(AND(AC40=0,AE39<=19),VLOOKUP(AG38,AB44:AC48,2,TRUE),IF(AND(AC40=0,AE39<=29),VLOOKUP(AG38,AB51:AC55,2,TRUE),IF(AND(AC40=0,AE39<=39),VLOOKUP(AG38,AB57:AC61,2,TRUE),IF(AND(AC40=0,AE39<=49),VLOOKUP(AG38,AB63:AC67,2,TRUE),IF(AND(AC40=0,AE39<=59),VLOOKUP(AG38,AB69:AC73,2,TRUE),IF(AND(AC40=0,AE39<=69),VLOOKUP(AG38,AB76:AC80,2,TRUE),IF(AND(AC40=1,AE39<=19),VLOOKUP(AG38,AE50:AF53,2,TRUE),IF(AND(AC40=1,AE39<=29),VLOOKUP(AG38,AE57:AF61,2,TRUE),IF(AND(AC40=1,AE39<=39),VLOOKUP(AG38,AE63:AF67,2,TRUE),IF(AND(AC40=1,AE39<=49),VLOOKUP(AG38,AE69:AF73,2,TRUE),IF(AND(AC40=1,AE39<=59),VLOOKUP(AG38,AE75:AF79,2,TRUE),IF(AND(AC40=1,AE39<=69),VLOOKUP(AG38,AE82:AF86,2,TRUE),"-")))))))))))) -> #REF! | AK43: <29 | AN43: <29
C44: =M10 -> - | E44: =E30 -> 0 | G44: ='TESTE (Fox - bicicleta)'!AL30 -> 0 | I44: =G44-E44 -> 0 | K44: 1 | M44: =IF('TESTE (Fox - bicicleta)'!E44=0,"Aguardando Dados",'TESTE (Fox - bicicleta)'!E44+'TESTE (Fox - bicicleta)'!K44*('TESTE (Fox - bicicleta)'!G44-'TESTE (Fox - bicicleta)'!E44)) -> Aguardando Dados | Q44: 1 | R44: Fraco | AB44: 1 | AC44: Fraco | AK44: 1 | AL44: M. Fraco | AN44: 1 | AO44: M. Fraco
C45: =C44 -> - | E45: =E44 -> 0 | G45: =G44 -> 0 | I45: =I44 -> 0 | K45: 0.95 | M45: =IF('TESTE (Fox - bicicleta)'!E45=0,"Aguardando Dados",'TESTE (Fox - bicicleta)'!E45+'TESTE (Fox - bicicleta)'!K45*('TESTE (Fox - bicicleta)'!G45-'TESTE (Fox - bicicleta)'!E45)) -> Aguardando Dados | Q45: 27 | R45: Regular | AB45: 12 | AC45: Regular | AK45: 24 | AL45: Fraco | AN45: 25 | AO45: Fraco
C46: =C45 -> - | E46: =E45 -> 0 | G46: =G45 -> 0 | I46: =I45 -> 0 | K46: 0.9 | M46: =IF('TESTE (Fox - bicicleta)'!E46=0,"Aguardando Dados",'TESTE (Fox - bicicleta)'!E46+'TESTE (Fox - bicicleta)'!K46*('TESTE (Fox - bicicleta)'!G46-'TESTE (Fox - bicicleta)'!E46)) -> Aguardando Dados | Q46: 32 | R46: Médio | AB46: 18 | AC46: Médio | AK46: 31 | AL46: Regular | AN46: 34 | AO46: Regular
C47: =C46 -> - | E47: =E46 -> 0 | G47: =G46 -> 0 | I47: =I46 -> 0 | K47: 0.85 | M47: =IF('TESTE (Fox - bicicleta)'!E47=0,"Aguardando Dados",'TESTE (Fox - bicicleta)'!E47+'TESTE (Fox - bicicleta)'!K47*('TESTE (Fox - bicicleta)'!G47-'TESTE (Fox - bicicleta)'!E47)) -> Aguardando Dados | Q47: 36 | R47: Bom | AB47: 25 | AC47: Bom | AK47: 38 | AL47: Bom | AN47: 45 | AO47: Bom
C48: =C47 -> - | E48: =E47 -> 0 | G48: =G47 -> 0 | I48: =I47 -> 0 | K48: 0.8 | M48: =IF('TESTE (Fox - bicicleta)'!E48=0,"Aguardando Dados",'TESTE (Fox - bicicleta)'!E48+'TESTE (Fox - bicicleta)'!K48*('TESTE (Fox - bicicleta)'!G48-'TESTE (Fox - bicicleta)'!E48)) -> Aguardando Dados | Q48: 42 | R48: Excelente | T48: Masculino | AB48: 33 | AC48: Excelente | AE48: Masculino | AK48: 49 | AL48: Excelente | AN48: 53 | AO48: Excelente
C49: =C48 -> - | E49: =E48 -> 0 | G49: =G48 -> 0 | I49: =I48 -> 0 | K49: 0.75 | M49: =IF('TESTE (Fox - bicicleta)'!E49=0,"Aguardando Dados",'TESTE (Fox - bicicleta)'!E49+'TESTE (Fox - bicicleta)'!K49*('TESTE (Fox - bicicleta)'!G49-'TESTE (Fox - bicicleta)'!E49)) -> Aguardando Dados | T49: 15 - 19 | AE49: 15 - 19
C50: =C49 -> - | E50: =E49 -> 0 | G50: =G49 -> 0 | I50: =I49 -> 0 | K50: 0.7 | M50: =IF('TESTE (Fox - bicicleta)'!E50=0,"Aguardando Dados",'TESTE (Fox - bicicleta)'!E50+'TESTE (Fox - bicicleta)'!K50*('TESTE (Fox - bicicleta)'!G50-'TESTE (Fox - bicicleta)'!E50)) -> Aguardando Dados | Q50: 20-29 | T50: 1 | U50: Fraco | AB50: 20-29 | AE50: 1 | AF50: Fraco | AK50: 30 - 39 | AN50: 30 - 39
C51: =C50 -> - | E51: =E50 -> 0 | G51: =G50 -> 0 | I51: =I50 -> 0 | K51: 0.65 | M51: =IF('TESTE (Fox - bicicleta)'!E51=0,"Aguardando Dados",'TESTE (Fox - bicicleta)'!E51+'TESTE (Fox - bicicleta)'!K51*('TESTE (Fox - bicicleta)'!G51-'TESTE (Fox - bicicleta)'!E51)) -> Aguardando Dados | Q51: 1 | R51: Fraco | T51: 33 | U51: Regular | AB51: 1 | AC51: Fraco | AE51: 18 | AF51: Regular | AK51: 1 | AL51: M. Fraco | AN51: 1 | AO51: M. Fraco
C52: =C51 -> - | E52: =E51 -> 0 | G52: =G51 -> 0 | I52: =I51 -> 0 | K52: 0.6 | M52: =IF('TESTE (Fox - bicicleta)'!E52=0,"Aguardando Dados",'TESTE (Fox - bicicleta)'!E52+'TESTE (Fox - bicicleta)'!K52*('TESTE (Fox - bicicleta)'!G52-'TESTE (Fox - bicicleta)'!E52)) -> Aguardando Dados | Q52: 21 | R52: Regular | T52: 38 | U52: Médio | AB52: 10 | AC52: Regular | AE52: 23 | AF52: Médio | AK52: 20 | AL52: Fraco | AN52: 23 | AO52: Fraco
C53: =C52 -> - | E53: =E52 -> 0 | G53: =G52 -> 0 | I53: =I52 -> 0 | K53: 0.55 | M53: =IF('TESTE (Fox - bicicleta)'!E53=0,"Aguardando Dados",'TESTE (Fox - bicicleta)'!E53+'TESTE (Fox - bicicleta)'!K53*('TESTE (Fox - bicicleta)'!G53-'TESTE (Fox - bicicleta)'!E53)) -> Aguardando Dados | Q53: 25 | R53: Médio | T53: 42 | U53: Bom | AB53: 15 | AC53: Médio | AE53: 29 | AF53: Bom | AK53: 28 | AL53: Regular | AN53: 31 | AO53: Regular
C54: =C53 -> - | E54: =E53 -> 0 | G54: =G53 -> 0 | I54: =I53 -> 0 | K54: 0.5 | M54: =IF('TESTE (Fox - bicicleta)'!E54=0,"Aguardando Dados",'TESTE (Fox - bicicleta)'!E54+'TESTE (Fox - bicicleta)'!K54*('TESTE (Fox - bicicleta)'!G54-'TESTE (Fox - bicicleta)'!E54)) -> Aguardando Dados | Q54: 31 | R54: Bom | T54: 48 | U54: Excelente | AB54: 21 | AC54: Bom | AE54: 39 | AF54: Excelente | AK54: 38 | AL54: Bom | AN54: 39 | AO54: Bom
Q55: 36 | R55: Excelente | AB55: 30 | AC55: Excelente | AK55: 45 | AL55: Excelente | AN55: 49 | AO55: Excelente
Q56: 30 -39 | T56: 20 - 29 | AB56: 30 -39 | AE56: 20 - 29 | AK56: 40 - 49 | AN56: 40 - 49
B57: Zonas de Treino de Corrida | Q57: 1 | R57: Fraco | T57: 1 | U57: Fraco | AB57: 1 | AC57: Fraco | AE57: 1 | AF57: Fraco | AK57: 1 | AL57: M. Fraco | AN57: 1 | AO57: M. Fraco
Q58: 15 | R58: Regular | T58: 29 | U58: Regular | AB58: 8 | AC58: Regular | AE58: 17 | AF58: Regular | AK58: 17 | AL58: Fraco | AN58: 20 | AO58: Fraco
Q59: 20 | R59: Médio | T59: 33 | U59: Médio | AB59: 13 | AC59: Médio | AE59: 22 | AF59: Médio | AK59: 24 | AL59: Regular | AN59: 27 | AO59: Regular
E60: Zona 1 | G60: 40% a 60% | I60: =IF($K$33="-","-",(((($AJ$82-AJ99)/60)+$AJ$84)/1440)) -> 0 | J60: a | K60: =IF($K$33="-","-",(((($AJ$82-AK99)/60)+$AJ$84)/1440)) -> 0 | Q60: 24 | R60: Bom | T60: 37 | U60: Bom | AB60: 20 | AC60: Bom | AE60: 19 | AF60: Bom | AK60: 31 | AL60: Bom | AN60: 36 | AO60: Bom
E61: Zona 2 | G61: 61% a 70% | I61: =IF($K$33="-","-",(((($AJ$82-AJ100)/60)+$AJ$84)/1440)) -> 0 | J61: a | K61: =IF($K$33="-","-",(((($AJ$82-AK100)/60)+$AJ$84)/1440)) -> 0 | Q61: 29 | R61: Excelente | T61: 43 | U61: Excelente | AB61: 27 | AC61: Excelente | AE61: 36 | AF61: Excelente | AK61: 42 | AL61: Excelente | AN61: 45 | AO61: Excelente
E62: Zona 3 | G62: 71% a 85% | I62: =IF($K$33="-","-",(((($AJ$82-AJ101)/60)+$AJ$84)/1440)) -> 0 | J62: a | K62: =IF($K$33="-","-",(((($AJ$82-AK101)/60)+$AJ$84)/1440)) -> 0 | Q62: 40 -49 | T62: 30 - 39 | AB62: 40 -49 | AE62: 30 - 39 | AK62: 50 - 59 | AN62: 50 - 59
E63: Zona 4 | G63: 86% a 95% | I63: =IF($K$33="-","-",(((($AJ$82-AJ102)/60)+$AJ$84)/1440)) -> 0 | J63: a | K63: =IF($K$33="-","-",(((($AJ$82-AK102)/60)+$AJ$84)/1440)) -> 0 | Q63: 1 | R63: Fraco | T63: 1 | U63: Fraco | AB63: 1 | AC63: Fraco | AE63: 1 | AF63: Fraco | AK63: 1 | AL63: M. Fraco | AN63: 1 | AO63: M. Fraco
E64: Zona 5 | G64: 96% a 100% | I64: =IF($K$33="-","-",(((($AJ$82-AJ103)/60)+$AJ$84)/1440)) -> 0 | J64: a | K64: =IF($K$33="-","-",(((($AJ$82-AK103)/60)+$AJ$84)/1440)) -> 0 | Q64: 7 | R64: Regular | T64: 22 | U64: Regular | AB64: 5 | AC64: Regular | AE64: 12 | AF64: Regular | AK64: 15 | AL64: Fraco | AN64: 18 | AO64: Fraco
Q65: 15 | R65: Médio | T65: 27 | U65: Médio | AB65: 11 | AC65: Médio | AE65: 17 | AF65: Médio | AK65: 21 | AL65: Regular | AN65: 25 | AO65: Regular
Q66: 20 | R66: Bom | T66: 31 | U66: Bom | AB66: 15 | AC66: Bom | AE66: 22 | AF66: Bom | AK66: 28 | AL66: Bom | AN66: 34 | AO66: Bom
B67: Equivalência de Tempo | Q67: 25 | R67: Excelente | T67: 36 | U67: Excelente | AB67: 24 | AC67: Excelente | AE67: 30 | AF67: Excelente | AK67: 38 | AL67: Excelente | AN67: 43 | AO67: Excelente
Q68: 50 - 59 | T68: 40 -49 | AB68: 50 - 59 | AE68: 40 -49 | AK68: 60 - 69 | AN68: 60 - 69
Q69: 1 | R69: Fraco | T69: 1 | U69: Fraco | AB69: 1 | AC69: Fraco | AE69: 1 | AF69: Fraco | AK69: 1 | AL69: M. Fraco | AN69: 1 | AO69: M. Fraco
C70: Entre com a distância e com o tempo | Q70: 3 | R70: Regular | T70: 17 | U70: Regular | AB70: 2 | AC70: Regular | AE70: 10 | AF70: Regular | AK70: 13 | AL70: Fraco | AN70: 16 | AO70: Fraco
C71: Distância (m) | Q71: 5 | R71: Médio | T71: 22 | U71: Médio | AB71: 7 | AC71: Médio | AE71: 13 | AF71: Médio | AK71: 18 | AL71: Regular | AN71: 23 | AO71: Regular
C72: Tempo (h:m:s) | Q72: 12 | R72: Bom | T72: 26 | U72: Bom | AB72: 11 | AC72: Bom | AE72: 17 | AF72: Bom | AK72: 24 | AL72: Bom | AN72: 31 | AO72: Bom
Q73: 19 | R73: Excelente | T73: 36 | U73: Excelente | AB73: 21 | AC73: Excelente | AE73: 22 | AF73: Excelente | AK73: 35 | AL73: Excelente | AN73: 41 | AO73: Excelente
C74: 100 | E74: 1000 | G74: 5000 | I74: 10000 | K74: 21100 | M74: 42200 | T74: 50 - 59 | AE74: 50 - 59
C75: =IF($E$72="","-",($E$72/$E$71)*C74) -> - | E75: =IF($E$72="","-",($E$72/$E$71)*E74) -> - | G75: =IF($E$72="","-",($E$72/$E$71)*G74) -> - | I75: =IF($E$72="","-",($E$72/$E$71)*I74) -> - | K75: =IF($E$72="","-",($E$72/$E$71)*K74) -> - | M75: =IF($E$72="","-",($E$72/$E$71)*M74) -> - | Q75: 60 - 69 | T75: 1 | U75: Fraco | AB75: 60 - 69 | AE75: 1 | AF75: Fraco
Q76: 1 | R76: Fraco | T76: 13 | U76: Regular | AB76: 1 | AC76: Fraco | AE76: 7 | AF76: Regular
Q77: 2 | R77: Regular | T77: 18 | U77: Médio | AB77: 1 | AC77: Regular | AE77: 10 | AF77: Médio
Q78: 4 | R78: Médio | T78: 22 | U78: Bom | AB78: 5 | AC78: Médio | AE78: 13 | AF78: Bom
Q79: 12 | R79: Bom | T79: 31 | U79: Excelente | AB79: 12 | AC79: Bom | AE79: 21 | AF79: Excelente | AJ79: =24*60*60 -> 86400
Q80: 16 | R80: Excelente | AB80: 17 | AC80: Excelente
T81: 60 - 69 | AE81: 60 - 69
T82: 1 | U82: Fraco | AE82: 1.01 | AF82: Fraco | AJ82: =K33*AJ79 -> 0
T83: 7 | U83: Regular | AE83: 5 | AF83: Regular
T84: 12 | U84: Médio | AE84: 8 | AF84: Médio | AJ84: =AJ82/60 -> 0
T85: 11 | U85: Bom | AE85: 11 | AF85: Bom
T86: 26 | U86: Excelente | AE86: 18 | AF86: Excelente
AJ90: 0.4 | AK90: 0.6
AJ91: 0.61 | AK91: 0.7
AJ92: 0.71 | AK92: 0.85
AJ93: 0.86 | AK93: 0.95
AJ94: 0.96 | AK94: 1
AJ99: =$AJ$82*AJ90 -> 0 | AK99: =$AJ$82*AK90 -> 0
AJ100: =$AJ$82*AJ91 -> 0 | AK100: =$AJ$82*AK91 -> 0
AJ101: =$AJ$82*AJ92 -> 0 | AK101: =$AJ$82*AK92 -> 0
AJ102: =$AJ$82*AJ93 -> 0 | AK102: =$AJ$82*AK93 -> 0
AJ103: =$AJ$82*AJ94 -> 0 | AK103: =$AJ$82*AK94 -> 0

Sheet Diário de treino
C9: Diário de Treino
C12: SEMANA 1 | E12: TREINAMENTO PREVISTO PARA A SEMANA
E13: 44809 | G13: =E13+1 -> 44810 | I13: =G13+1 -> 44811 | K13: =I13+1 -> 44812 | M13: =K13+1 -> 44813 | O13: =M13+1 -> 44814 | Q13: =O13+1 -> 44815
C14: Tipo | E14: OFF | G14: OFF | I14: HIIT | K14: OFF | M14: OFF | O14: OFF
C16: Detalhes | I16: 5 min zona 3 | O16: 5 km zona 3
I17: 10 Tiros zona 5
I18: 5 min zona 2
I19: 10 Tiros zona 5
I20: 5 min zona 2
C22: Observação | I22: Olhar zona em na aba teste | O22: Olhar zona em na aba teste
C26: Distância planejada
M28: Distância percorrida na semana | Q28: =E26+G26+I26+K26+M26+O26+Q26 -> 0
C30: SEMANA 2 | E30: TREINAMENTO PREVISTO PARA A SEMANA
E31: =Q13+1 -> 44816 | G31: =E31+1 -> 44817 | I31: =G31+1 -> 44818 | K31: =I31+1 -> 44819 | M31: =K31+1 -> 44820 | O31: =M31+1 -> 44821 | Q31: =O31+1 -> 44822
C32: Tipo | G32: Repetições | I32: HIIT | K32: Regenerativo | O32: OFF
C34: Detalhes | I34: 5 min zona 3 | O34: 5 km zona 3
I35: 10 Tiros zona 5
I36: 5 min zona 2
I37: 10 Tiros zona 5
I38: 5 min zona 2
C40: Observação | I40: Olhar zona em na aba teste | O40: Olhar zona em na aba teste
C44: Distância planejada
M46: Distância percorrida na semana | Q46: =E44+G44+I44+K44+M44+O44+Q44 -> 0
C48: SEMANA 3 | E48: TREINAMENTO PREVISTO PARA A SEMANA
E49: =Q31+1 -> 44823 | G49: =E49+1 -> 44824 | I49: =G49+1 -> 44825 | K49: =I49+1 -> 44826 | M49: =K49+1 -> 44827 | O49: =M49+1 -> 44828 | Q49: =O49+1 -> 44829
C50: Tipo | G50: HIIT | I50: HIIT | K50: OFF | O50: OFF
C52: Detalhes | I52: 5 min zona 3 | O52: 5 km zona 3
I53: 10 Tiros zona 5
I54: 5 min zona 2
I55: 10 Tiros zona 5
I56: 5 min zona 2
C58: Observação | I58: Olhar zona em na aba teste | O58: Olhar zona em na aba teste
C62: Distância planejada
M64: Distância percorrida na semana | Q64: =E62+G62+I62+K62+M62+O62+Q62 -> 0
C66: SEMANA 4 | E66: TREINAMENTO PREVISTO PARA A SEMANA
E67: =Q49+1 -> 44830 | G67: =E67+1 -> 44831 | I67: =G67+1 -> 44832 | K67: =I67+1 -> 44833 | M67: =K67+1 -> 44834 | O67: =M67+1 -> 44835 | Q67: =O67+1 -> 44836
C68: Tipo | G68: HIIT | I68: HIIT | O68: OFF
C70: Detalhes | I70: 5 min zona 3 | O70: 5 km zona 3
I71: 10 Tiros zona 5
I72: 5 min zona 2
I73: 10 Tiros zona 5
I74: 5 min zona 2
C76: Observação | I76: Olhar zona em na aba teste | O76: Olhar zona em na aba teste
C80: Distância planejada
M82: Distância percorrida na semana | Q82: =E80+G80+I80+K80+M80+O80+Q80 -> 0

Sheet PAR-Q
A8: Par-Q
J9: Sim | K9: Não
B10: Algum médico já disse que você possui algum problema de coração e que só
B11: deveria realizar atividades físicas supervisionada por profissionais da saúde?
B13: Você senti dores no peito quando pratica atividade física?
B15: No último mês, você sentiu dores no peito quando praticava atividade física?
B17: Você apresenta desequilíbrio devido a tontura e/ou perda de consciência?
B19: Você possui algum problema ósseo ou articular que poderia ser piorado
B20: pela atividade física?
B22: Você toma atualmente algum medicamento para pressão arterial e/ou
B23: problema de coração?
B25: Sabe de alguma outra razão pela qual você não deve realizar atividade física?
A28: Fatores de risco para doenças coronariana
B30: Fator | D30: Descrição | J30: Sim | K30: Não
B31: Idade | D31: Homem acima de 45 anos ou mulher acima de 55 anos
B33: Colesterol | D33: Acima de 240mg/dL
B35: Pressão Arterial | D35: Acima de 140/90 mmHg ou usa medicamento para pressão
B37: Tabagismo | D37: Fuma?
B39: Diabetes | D39: É diabético(a)?
B41: História Familiar | D41: Pai ou irmão antes do 55 anos, mãe ou irmã antes dos 65
D42: anos com histórico de ataque cardiaco?
B44: Sedentarismo | D44: Atividade profissional sedentária e menos de 30 min.
D45: de atividade pelo menos 3 vezes por semana?
B47: Obesidade | D47: Mais de 10kg de excesso de peso?
B50: Li, entendi e completei este questionário. Todas as dúvidas que tive foram respondidas
B51: satisfatoriamente.
B53: Data: | E53: Assinatura:

Sheet Tabela de Ritmo
C1: 7 min/km | E1: 6 min/km | G1: 5 min/km | J1: 4 min/km
B2: 8 km/h | C2: 8,5 km/h | D2: 9 km/h | E2: 10 km/h | F2: 11 km/h | G2: 12 km/h | H2: 13 km/h | I2: 14 km/h | J2: 15 km/h
A3: 100 | B3: 0.00052083333 | C3: 0.00048611111 | D3: 0.00046296296 | E3: 0.00041666667 | F3: 0.00038194444 | G3: 0.00034722222 | H3: 0.00032407407 | I3: 0.00030092593 | J3: 0.00027777778
A4: 200 | B4: 0.0010416667 | C4: 0.00097222222 | D4: 0.00092592593 | E4: 0.00083333333 | F4: 0.00076388889 | G4: 0.00069444444 | H4: 0.00064814815 | I4: 0.00060185185 | J4: 0.00055555556
A5: 300 | B5: 0.0015625 | C5: 0.0014583333 | D5: 0.0013888889 | E5: 0.00125 | F5: 0.0011458333 | G5: 0.0010416667 | H5: 0.00097222222 | I5: 0.00090277778 | J5: 0.00083333333
A6: 400 | B6: 0.0020833333 | C6: 0.0019444444 | D6: 0.0018518519 | E6: 0.0016666667 | F6: 0.0015277778 | G6: 0.0013888889 | H6: 0.0012962963 | I6: 0.0012037037 | J6: 0.0011111111
A7: 500 | B7: 0.0026041667 | C7: 0.0024305556 | D7: 0.0023148148 | E7: 0.0020833333 | F7: 0.0019097222 | G7: 0.0017361111 | H7: 0.0016203704 | I7: 0.0015046296 | J7: 0.0013888889
A8: 600 | B8: 0.003125 | C8: 0.0029166667 | D8: 0.0027777778 | E8: 0.0025 | F8: 0.0022916667 | G8: 0.0020833333 | H8: 0.0019444444 | I8: 0.0018055556 | J8: 0.0016666667
A9: 700 | B9: 0.0036458333 | C9: 0.0034027778 | D9: 0.0032407407 | E9: 0.0029166667 | F9: 0.0026736111 | G9: 0.0024305556 | H9: 0.0022685185 | I9: 0.0021064815 | J9: 0.0019444444
A10: 800 | B10: 0.0041666667 | C10: 0.0038888889 | D10: 0.0037037037 | E10: 0.0033333333 | F10: 0.0030555556 | G10: 0.0027777778 | H10: 0.0025925926 | I10: 0.0024074074 | J10: 0.0022222222
A11: 900 | B11: 0.0046875 | C11: 0.004375 | D11: 0.0041666667 | E11: 0.00375 | F11: 0.0034375 | G11: 0.003125 | H11: 0.0029166667 | I11: 0.0027083333 | J11: 0.0025
A12: 1000 | B12: 0.0052083333 | C12: 0.0048611111 | D12: 0.0046296296 | E12: 0.0041666667 | F12: 0.0038194444 | G12: 0.0034722222 | H12: 0.0032407407 | I12: 0.0030092593 | J12: 0.0027777778
A13: 1100 | B13: 0.0057291667 | C13: 0.0053472222 | D13: 0.0050925926 | E13: 0.0045833333 | F13: 0.0042013889 | G13: 0.0038194444 | H13: 0.0035648148 | I13: 0.0033101852 | J13: 0.0030555556
A14: 1200 | B14: 0.00625 | C14: 0.0058333333 | D14: 0.0055555556 | E14: 0.005 | F14: 0.0045833333 | G14: 0.0041666667 | H14: 0.0038888889 | I14: 0.0036111111 | J14: 0.0033333333
... A68: 21000 | B68: 0.109375 | C68: 0.10208333 | D68: 0.097222222 | E68: 0.0875 | F68: 0.080208333 | G68: 0.072916667 | H68: 0.068055556 | I68: 0.063194444 | J68: 0.058333333
